BEGIN:VCALENDAR
VERSION:2.0
PRODID:-//Sabre//Sabre VObject 4.5.8//EN
CALSCALE:GREGORIAN
NAME:PG Egling
X-WR-CALNAME:PG Egling
BEGIN:VEVENT
UID:sabre-vobject-628e5382-fc37-4f3a-8ba0-d8de65f97b50
DTSTAMP:20260424T012302Z
SUMMARY:Geburtstagsfeier Hans Fischer
DTSTART;TZID=Europe/Berlin:20251019T140000
DTEND;TZID=Europe/Berlin:20251019T210000
LOCATION:Pfarrheim Küche\, Schulstraße 12\, 86492 Egling an der Paar
END:VEVENT
END:VCALENDAR
