BEGIN:VCALENDAR
VERSION:2.0
PRODID:-//Sabre//Sabre VObject 4.5.8//EN
CALSCALE:GREGORIAN
NAME:PG Egling
X-WR-CALNAME:PG Egling
BEGIN:VEVENT
UID:sabre-vobject-c0909e2a-55ee-45c2-8447-4b765b82af0c
DTSTAMP:20260425T204818Z
SUMMARY:Gymnastik Frau Reum
DTSTART;TZID=Europe/Berlin:20251222T090000
DTEND;TZID=Europe/Berlin:20251222T100000
LOCATION:Pfarrheim EG Großer Gruppenraum\, Schulstraße 12\, 86492 Egling 
 an der Paar
END:VEVENT
BEGIN:VEVENT
UID:sabre-vobject-4af8f202-b17b-4588-88b1-0874822ae98c
DTSTAMP:20260425T204818Z
SUMMARY:Mutter Kind Gruppe ( Wörle )
DTSTART;TZID=Europe/Berlin:20251224T083000
DTEND;TZID=Europe/Berlin:20251224T110000
LOCATION:Pfarrheim EG Großer Gruppenraum\, Schulstraße 12\, 86492 Egling 
 an der Paar
END:VEVENT
BEGIN:VEVENT
UID:sabre-vobject-f5848d91-5d8f-4721-8c67-c25f51fdf59c
DTSTAMP:20260425T204818Z
SUMMARY:Mutter Kind Gruppe ( Wild )
DTSTART;TZID=Europe/Berlin:20251225T083000
DTEND;TZID=Europe/Berlin:20251225T110000
LOCATION:Pfarrheim EG Großer Gruppenraum\, Schulstraße 12\, 86492 Egling 
 an der Paar
END:VEVENT
BEGIN:VEVENT
UID:sabre-vobject-9cb1bca6-f5a2-492f-9ced-9bb1b7a75bdd
DTSTAMP:20260425T204818Z
SUMMARY:Mädchen Singgruppe
DTSTART;TZID=Europe/Berlin:20251226T163000
DTEND;TZID=Europe/Berlin:20251226T183000
LOCATION:Pfarrheim EG Großer Gruppenraum\, Schulstraße 12\, 86492 Egling 
 an der Paar
END:VEVENT
BEGIN:VEVENT
UID:sabre-vobject-29abdb18-b194-4050-b61a-adde57f83fbf
DTSTAMP:20260425T204818Z
SUMMARY:Frauenbund Egling Heinrichshofen
DTSTART;TZID=Europe/Berlin:20251228T140000
DTEND;TZID=Europe/Berlin:20251230T130000
LOCATION:Pfarrheim EG Großer Gruppenraum\, Schulstraße 12\, 86492 Egling 
 an der Paar
END:VEVENT
END:VCALENDAR
