BEGIN:VCALENDAR
VERSION:2.0
PRODID:-//Sabre//Sabre VObject 4.5.8//EN
CALSCALE:GREGORIAN
NAME:PG Egling
X-WR-CALNAME:PG Egling
BEGIN:VEVENT
UID:sabre-vobject-9cffc7cf-f3f2-4681-8ec2-cc4c3bac60ed
DTSTAMP:20260425T230707Z
SUMMARY:Gymnastik Frau Reum
DTSTART;TZID=Europe/Berlin:20250929T090000
DTEND;TZID=Europe/Berlin:20250929T100000
LOCATION:Pfarrheim EG Großer Gruppenraum\, Schulstraße 12\, 86492 Egling 
 an der Paar
END:VEVENT
BEGIN:VEVENT
UID:sabre-vobject-5ba30fa8-1c2a-4cdf-913a-852ba34d1170
DTSTAMP:20260425T230707Z
SUMMARY:Mutter Kind Gruppe ( Wörle )
DTSTART;TZID=Europe/Berlin:20251001T083000
DTEND;TZID=Europe/Berlin:20251001T110000
LOCATION:Pfarrheim EG Großer Gruppenraum\, Schulstraße 12\, 86492 Egling 
 an der Paar
END:VEVENT
BEGIN:VEVENT
UID:sabre-vobject-37eb74d4-d64c-4efa-9de0-d19dbbfebdb3
DTSTAMP:20260425T230707Z
SUMMARY:Mutter Kind Gruppe ( Wild )
DTSTART;TZID=Europe/Berlin:20251002T083000
DTEND;TZID=Europe/Berlin:20251002T110000
LOCATION:Pfarrheim EG Großer Gruppenraum\, Schulstraße 12\, 86492 Egling 
 an der Paar
END:VEVENT
BEGIN:VEVENT
UID:sabre-vobject-bd32afec-7180-42cf-81cc-088bd614d377
DTSTAMP:20260425T230707Z
SUMMARY:Mädchen Singgruppe
DTSTART;TZID=Europe/Berlin:20251003T163000
DTEND;TZID=Europe/Berlin:20251003T183000
LOCATION:Pfarrheim EG Großer Gruppenraum\, Schulstraße 12\, 86492 Egling 
 an der Paar
END:VEVENT
END:VCALENDAR
