BEGIN:VCALENDAR
VERSION:2.0
PRODID:-//Sabre//Sabre VObject 4.5.8//EN
CALSCALE:GREGORIAN
NAME:PG Egling
X-WR-CALNAME:PG Egling
BEGIN:VEVENT
UID:sabre-vobject-f4c524ad-a024-437c-82ed-9b0d34e9bf69
DTSTAMP:20260426T002006Z
SUMMARY:Gymnastik Frau Reum
DTSTART;TZID=Europe/Berlin:20250922T090000
DTEND;TZID=Europe/Berlin:20250922T100000
LOCATION:Pfarrheim EG Großer Gruppenraum\, Schulstraße 12\, 86492 Egling 
 an der Paar
END:VEVENT
BEGIN:VEVENT
UID:sabre-vobject-7078a251-7a72-4ea2-8c5f-a7bd53d1335a
DTSTAMP:20260426T002006Z
SUMMARY:Mutter Kind Gruppe ( Wörle )
DTSTART;TZID=Europe/Berlin:20250924T083000
DTEND;TZID=Europe/Berlin:20250924T110000
LOCATION:Pfarrheim EG Großer Gruppenraum\, Schulstraße 12\, 86492 Egling 
 an der Paar
END:VEVENT
BEGIN:VEVENT
UID:sabre-vobject-09fd4a5d-bae0-4ed6-b689-e6023570ff57
DTSTAMP:20260426T002006Z
SUMMARY:Mutter Kind Gruppe ( Wild )
DTSTART;TZID=Europe/Berlin:20250925T083000
DTEND;TZID=Europe/Berlin:20250925T110000
LOCATION:Pfarrheim EG Großer Gruppenraum\, Schulstraße 12\, 86492 Egling 
 an der Paar
END:VEVENT
BEGIN:VEVENT
UID:sabre-vobject-5d012ad1-42b7-415d-8fd8-c12b14ad8bf1
DTSTAMP:20260426T002006Z
SUMMARY:Mädchen Singgruppe
DTSTART;TZID=Europe/Berlin:20250926T163000
DTEND;TZID=Europe/Berlin:20250926T183000
LOCATION:Pfarrheim EG Großer Gruppenraum\, Schulstraße 12\, 86492 Egling 
 an der Paar
END:VEVENT
BEGIN:VEVENT
UID:sabre-vobject-41f48f0f-be93-46aa-9c2d-a2039d08ac75
DTSTAMP:20260426T002006Z
SUMMARY:Firmung Hwst. H. Weihbischof Dr. Dr. Anton Losinger
DTSTART;TZID=Europe/Berlin:20250927T110000
DTEND;TZID=Europe/Berlin:20250927T140000
LOCATION:Pfarrheim EG Großer Gruppenraum\, Schulstraße 12\, 86492 Egling 
 an der Paar
END:VEVENT
BEGIN:VEVENT
UID:sabre-vobject-2348d6f0-d971-4a7b-89ed-c0feed4d16d5
DTSTAMP:20260426T002006Z
SUMMARY:Sängerkreis außerordentliche JHV
DTSTART;TZID=Europe/Berlin:20250922T183000
DTEND;TZID=Europe/Berlin:20250922T213000
LOCATION:Pfarrheim EG Großer Gruppenraum\, Schulstraße 12\, 86492 Egling 
 an der Paar
END:VEVENT
END:VCALENDAR
