BEGIN:VCALENDAR
VERSION:2.0
PRODID:-//Sabre//Sabre VObject 4.5.8//EN
CALSCALE:GREGORIAN
NAME:PG Egling
X-WR-CALNAME:PG Egling
BEGIN:VEVENT
UID:sabre-vobject-dc166306-56a6-4d8a-89ce-72af0e7e8e3f
DTSTAMP:20260426T001330Z
SUMMARY:Gymnastik Frau Reum
DTSTART;TZID=Europe/Berlin:20250908T090000
DTEND;TZID=Europe/Berlin:20250908T100000
LOCATION:Pfarrheim EG Großer Gruppenraum\, Schulstraße 12\, 86492 Egling 
 an der Paar
END:VEVENT
BEGIN:VEVENT
UID:sabre-vobject-47bb9774-3164-4408-99b6-9ce603496dd6
DTSTAMP:20260426T001330Z
SUMMARY:Heilige Messe mit anschl. Frühstück
DTSTART;TZID=Europe/Berlin:20250909T080000
DTEND;TZID=Europe/Berlin:20250909T103000
LOCATION:Pfarrheim EG Großer Gruppenraum\, Schulstraße 12\, 86492 Egling 
 an der Paar
END:VEVENT
BEGIN:VEVENT
UID:sabre-vobject-7a4903fa-8c43-48c5-b24f-ff4dd0202efd
DTSTAMP:20260426T001330Z
SUMMARY:Mutter Kind Gruppe ( Wörle )
DTSTART;TZID=Europe/Berlin:20250910T083000
DTEND;TZID=Europe/Berlin:20250910T110000
LOCATION:Pfarrheim EG Großer Gruppenraum\, Schulstraße 12\, 86492 Egling 
 an der Paar
END:VEVENT
BEGIN:VEVENT
UID:sabre-vobject-b2256001-2e21-4a91-9f6c-d7e1f0a455bc
DTSTAMP:20260426T001330Z
SUMMARY:Mutter Kind Gruppe ( Wild )
DTSTART;TZID=Europe/Berlin:20250911T083000
DTEND;TZID=Europe/Berlin:20250911T110000
LOCATION:Pfarrheim EG Großer Gruppenraum\, Schulstraße 12\, 86492 Egling 
 an der Paar
END:VEVENT
BEGIN:VEVENT
UID:sabre-vobject-33b61fab-8355-4e0f-a039-bb1e42b70d73
DTSTAMP:20260426T001330Z
SUMMARY:Mädchen Singgruppe
DTSTART;TZID=Europe/Berlin:20250912T163000
DTEND;TZID=Europe/Berlin:20250912T183000
LOCATION:Pfarrheim EG Großer Gruppenraum\, Schulstraße 12\, 86492 Egling 
 an der Paar
END:VEVENT
END:VCALENDAR
