BEGIN:VCALENDAR
VERSION:2.0
PRODID:-//Sabre//Sabre VObject 4.5.8//EN
CALSCALE:GREGORIAN
NAME:PG Egling
X-WR-CALNAME:PG Egling
BEGIN:VEVENT
UID:sabre-vobject-d0ebc283-aaeb-4164-8d7a-62f2bfc8ffba
DTSTAMP:20260426T001330Z
SUMMARY:Gymnastik Frau Reum
DTSTART;TZID=Europe/Berlin:20250901T090000
DTEND;TZID=Europe/Berlin:20250901T100000
LOCATION:Pfarrheim EG Großer Gruppenraum\, Schulstraße 12\, 86492 Egling 
 an der Paar
END:VEVENT
BEGIN:VEVENT
UID:sabre-vobject-bb6e19b4-e295-442c-94cf-b5f498a27a84
DTSTAMP:20260426T001330Z
SUMMARY:Mutter Kind Gruppe ( Wörle )
DTSTART;TZID=Europe/Berlin:20250903T083000
DTEND;TZID=Europe/Berlin:20250903T110000
LOCATION:Pfarrheim EG Großer Gruppenraum\, Schulstraße 12\, 86492 Egling 
 an der Paar
END:VEVENT
BEGIN:VEVENT
UID:sabre-vobject-54127787-b8e1-4402-8550-b418b6bafa0f
DTSTAMP:20260426T001330Z
SUMMARY:Mutter Kind Gruppe ( Wild )
DTSTART;TZID=Europe/Berlin:20250904T083000
DTEND;TZID=Europe/Berlin:20250904T110000
LOCATION:Pfarrheim EG Großer Gruppenraum\, Schulstraße 12\, 86492 Egling 
 an der Paar
END:VEVENT
BEGIN:VEVENT
UID:sabre-vobject-4b0b1af9-365e-4387-831f-b239de0d3d34
DTSTAMP:20260426T001330Z
SUMMARY:Mädchen Singgruppe
DTSTART;TZID=Europe/Berlin:20250905T163000
DTEND;TZID=Europe/Berlin:20250905T183000
LOCATION:Pfarrheim EG Großer Gruppenraum\, Schulstraße 12\, 86492 Egling 
 an der Paar
END:VEVENT
END:VCALENDAR
