BEGIN:VCALENDAR
VERSION:2.0
PRODID:-//Sabre//Sabre VObject 4.5.8//EN
CALSCALE:GREGORIAN
NAME:PG Egling
X-WR-CALNAME:PG Egling
BEGIN:VEVENT
UID:sabre-vobject-aade7c66-b38b-4670-a2c8-5d11c9aac233
DTSTAMP:20260426T012332Z
SUMMARY:Mutter Kind Gruppe ( Wörle )
DTSTART;TZID=Europe/Berlin:20250730T083000
DTEND;TZID=Europe/Berlin:20250730T110000
LOCATION:Pfarrheim EG Großer Gruppenraum\, Schulstraße 12\, 86492 Egling 
 an der Paar
END:VEVENT
BEGIN:VEVENT
UID:sabre-vobject-7ddb138d-8d50-434d-8c72-aefe797b7121
DTSTAMP:20260426T012332Z
SUMMARY:Mutter Kind Gruppe ( Wild )
DTSTART;TZID=Europe/Berlin:20250731T083000
DTEND;TZID=Europe/Berlin:20250731T110000
LOCATION:Pfarrheim EG Großer Gruppenraum\, Schulstraße 12\, 86492 Egling 
 an der Paar
END:VEVENT
BEGIN:VEVENT
UID:sabre-vobject-a598af66-80c4-41a2-999a-0f0ea93174c4
DTSTAMP:20260426T012332Z
SUMMARY:Mädchen Singgruppe
DTSTART;TZID=Europe/Berlin:20250801T163000
DTEND;TZID=Europe/Berlin:20250801T183000
LOCATION:Pfarrheim EG Großer Gruppenraum\, Schulstraße 12\, 86492 Egling 
 an der Paar
END:VEVENT
END:VCALENDAR
