BEGIN:VCALENDAR
VERSION:2.0
PRODID:-//Sabre//Sabre VObject 4.5.8//EN
CALSCALE:GREGORIAN
NAME:PG Egling
X-WR-CALNAME:PG Egling
BEGIN:VEVENT
UID:sabre-vobject-ce487e51-2b95-4e21-bc68-ffb3f64e1877
DTSTAMP:20260425T194004Z
SUMMARY:Gymnastik Frau Reum
DTSTART;TZID=Europe/Berlin:20260105T090000
DTEND;TZID=Europe/Berlin:20260105T100000
LOCATION:Pfarrheim EG Großer Gruppenraum\, Schulstraße 12\, 86492 Egling 
 an der Paar
END:VEVENT
BEGIN:VEVENT
UID:sabre-vobject-3d833e83-134c-4ef9-9c12-a26db4731692
DTSTAMP:20260425T194004Z
SUMMARY:Mutter Kind Gruppe ( Wörle )
DTSTART;TZID=Europe/Berlin:20260107T083000
DTEND;TZID=Europe/Berlin:20260107T110000
LOCATION:Pfarrheim EG Großer Gruppenraum\, Schulstraße 12\, 86492 Egling 
 an der Paar
END:VEVENT
BEGIN:VEVENT
UID:sabre-vobject-420dcac8-5b6e-40b2-8159-556a6fbd9daa
DTSTAMP:20260425T194004Z
SUMMARY:Mutter Kind Gruppe ( Wild )
DTSTART;TZID=Europe/Berlin:20260108T083000
DTEND;TZID=Europe/Berlin:20260108T110000
LOCATION:Pfarrheim EG Großer Gruppenraum\, Schulstraße 12\, 86492 Egling 
 an der Paar
END:VEVENT
BEGIN:VEVENT
UID:sabre-vobject-ea002d38-5889-4f02-bed8-668e9be88967
DTSTAMP:20260425T194004Z
SUMMARY:Mädchen Singgruppe
DTSTART;TZID=Europe/Berlin:20260109T163000
DTEND;TZID=Europe/Berlin:20260109T183000
LOCATION:Pfarrheim EG Großer Gruppenraum\, Schulstraße 12\, 86492 Egling 
 an der Paar
END:VEVENT
END:VCALENDAR
