BEGIN:VCALENDAR
VERSION:2.0
PRODID:-//Sabre//Sabre VObject 4.5.8//EN
CALSCALE:GREGORIAN
NAME:PG Egling
X-WR-CALNAME:PG Egling
BEGIN:VEVENT
UID:sabre-vobject-a6ebf676-b327-4d4e-92b1-256cd22fb395
DTSTAMP:20260425T205235Z
SUMMARY:Gymnastik Frau Reum
DTSTART;TZID=Europe/Berlin:20251103T090000
DTEND;TZID=Europe/Berlin:20251103T100000
LOCATION:Pfarrheim EG Großer Gruppenraum\, Schulstraße 12\, 86492 Egling 
 an der Paar
END:VEVENT
BEGIN:VEVENT
UID:sabre-vobject-9b09d0f5-5e73-487f-a7cd-846d5c4a68ba
DTSTAMP:20260425T205235Z
SUMMARY:Mutter Kind Gruppe ( Wörle )
DTSTART;TZID=Europe/Berlin:20251105T083000
DTEND;TZID=Europe/Berlin:20251105T110000
LOCATION:Pfarrheim EG Großer Gruppenraum\, Schulstraße 12\, 86492 Egling 
 an der Paar
END:VEVENT
BEGIN:VEVENT
UID:sabre-vobject-973e6987-039a-4d26-8774-d28a4c3c24a4
DTSTAMP:20260425T205235Z
SUMMARY:Mutter Kind Gruppe ( Wild )
DTSTART;TZID=Europe/Berlin:20251106T083000
DTEND;TZID=Europe/Berlin:20251106T110000
LOCATION:Pfarrheim EG Großer Gruppenraum\, Schulstraße 12\, 86492 Egling 
 an der Paar
END:VEVENT
BEGIN:VEVENT
UID:sabre-vobject-30e30d0d-9f07-417c-9312-44cb0879d466
DTSTAMP:20260425T205235Z
SUMMARY:PGR - Sitzung
DTSTART;TZID=Europe/Berlin:20251106T193000
DTEND;TZID=Europe/Berlin:20251106T213000
LOCATION:Pfarrheim EG Großer Gruppenraum\, Schulstraße 12\, 86492 Egling 
 an der Paar
END:VEVENT
BEGIN:VEVENT
UID:sabre-vobject-7cf01d96-4a17-40de-8dbf-4c7d3211fb65
DTSTAMP:20260425T205235Z
SUMMARY:Mädchen Singgruppe
DTSTART;TZID=Europe/Berlin:20251107T163000
DTEND;TZID=Europe/Berlin:20251107T183000
LOCATION:Pfarrheim EG Großer Gruppenraum\, Schulstraße 12\, 86492 Egling 
 an der Paar
END:VEVENT
BEGIN:VEVENT
UID:sabre-vobject-da0d2ac5-e1c4-4491-b347-93c1a543a770
DTSTAMP:20260425T205235Z
SUMMARY:Gymnastik Frau Reum
DTSTART;TZID=Europe/Berlin:20251110T090000
DTEND;TZID=Europe/Berlin:20251110T100000
LOCATION:Pfarrheim EG Großer Gruppenraum\, Schulstraße 12\, 86492 Egling 
 an der Paar
END:VEVENT
BEGIN:VEVENT
UID:sabre-vobject-5f7bf527-1abb-4890-9c71-3e315856eb17
DTSTAMP:20260425T205235Z
SUMMARY:Heilige Messe mit anschl. Frühstück
DTSTART;TZID=Europe/Berlin:20251111T080000
DTEND;TZID=Europe/Berlin:20251111T103000
LOCATION:Pfarrheim EG Großer Gruppenraum\, Schulstraße 12\, 86492 Egling 
 an der Paar
END:VEVENT
BEGIN:VEVENT
UID:sabre-vobject-f0ad1223-9bb2-49b8-8f3b-8ed040d54903
DTSTAMP:20260425T205235Z
SUMMARY:Mutter Kind Gruppe ( Wörle )
DTSTART;TZID=Europe/Berlin:20251112T083000
DTEND;TZID=Europe/Berlin:20251112T110000
LOCATION:Pfarrheim EG Großer Gruppenraum\, Schulstraße 12\, 86492 Egling 
 an der Paar
END:VEVENT
BEGIN:VEVENT
UID:sabre-vobject-5660a944-ba79-43b7-9b0e-f628e9e17cd2
DTSTAMP:20260425T205235Z
SUMMARY:Seniorennachmittag
DTSTART;TZID=Europe/Berlin:20251112T130000
DTEND;TZID=Europe/Berlin:20251112T180000
LOCATION:Pfarrheim EG Großer Gruppenraum\, Schulstraße 12\, 86492 Egling 
 an der Paar
END:VEVENT
BEGIN:VEVENT
UID:sabre-vobject-ec4ae4a5-eba8-4ec4-8000-67fef28b59ed
DTSTAMP:20260425T205235Z
SUMMARY:Mutter Kind Gruppe ( Wild )
DTSTART;TZID=Europe/Berlin:20251113T083000
DTEND;TZID=Europe/Berlin:20251113T110000
LOCATION:Pfarrheim EG Großer Gruppenraum\, Schulstraße 12\, 86492 Egling 
 an der Paar
END:VEVENT
BEGIN:VEVENT
UID:sabre-vobject-e9412cd2-a1ec-4972-8c4e-12f3348ebbe1
DTSTAMP:20260425T205235Z
SUMMARY:Mädchen Singgruppe
DTSTART;TZID=Europe/Berlin:20251114T163000
DTEND;TZID=Europe/Berlin:20251114T183000
LOCATION:Pfarrheim EG Großer Gruppenraum\, Schulstraße 12\, 86492 Egling 
 an der Paar
END:VEVENT
BEGIN:VEVENT
UID:sabre-vobject-9e48911f-65d1-45b5-bf57-44fac4148e50
DTSTAMP:20260425T205235Z
SUMMARY:Mütter beten
DTSTART;TZID=Europe/Berlin:20251114T193000
DTEND;TZID=Europe/Berlin:20251114T213000
LOCATION:Pfarrheim EG Großer Gruppenraum\, Schulstraße 12\, 86492 Egling 
 an der Paar
END:VEVENT
BEGIN:VEVENT
UID:sabre-vobject-435a2529-f6ab-4a76-864e-7e283f92bd04
DTSTAMP:20260425T205235Z
SUMMARY:Kinderbibeltag
DTSTART;TZID=Europe/Berlin:20251115T090000
DTEND;TZID=Europe/Berlin:20251115T170000
LOCATION:Pfarrheim EG Großer Gruppenraum\, Schulstraße 12\, 86492 Egling 
 an der Paar
END:VEVENT
BEGIN:VEVENT
UID:sabre-vobject-e3ea43c4-daac-45f3-b7af-47ce3c9ed306
DTSTAMP:20260425T205235Z
SUMMARY:Gymnastik Frau Reum
DTSTART;TZID=Europe/Berlin:20251117T090000
DTEND;TZID=Europe/Berlin:20251117T100000
LOCATION:Pfarrheim EG Großer Gruppenraum\, Schulstraße 12\, 86492 Egling 
 an der Paar
END:VEVENT
BEGIN:VEVENT
UID:sabre-vobject-e5d8cd74-504e-4ec0-8fd7-d1aedc0019ec
DTSTAMP:20260425T205235Z
SUMMARY:Mutter Kind Gruppe ( Wörle )
DTSTART;TZID=Europe/Berlin:20251119T083000
DTEND;TZID=Europe/Berlin:20251119T110000
LOCATION:Pfarrheim EG Großer Gruppenraum\, Schulstraße 12\, 86492 Egling 
 an der Paar
END:VEVENT
BEGIN:VEVENT
UID:sabre-vobject-5b3ee6fd-1218-4f84-a516-d828a7192600
DTSTAMP:20260425T205235Z
SUMMARY:Mutter Kind Gruppe ( Wild )
DTSTART;TZID=Europe/Berlin:20251120T083000
DTEND;TZID=Europe/Berlin:20251120T110000
LOCATION:Pfarrheim EG Großer Gruppenraum\, Schulstraße 12\, 86492 Egling 
 an der Paar
END:VEVENT
BEGIN:VEVENT
UID:sabre-vobject-1a6fef16-f0d6-41bf-be2d-d16547225614
DTSTAMP:20260425T205235Z
SUMMARY:Mädchen Singgruppe
DTSTART;TZID=Europe/Berlin:20251121T163000
DTEND;TZID=Europe/Berlin:20251121T183000
LOCATION:Pfarrheim EG Großer Gruppenraum\, Schulstraße 12\, 86492 Egling 
 an der Paar
END:VEVENT
BEGIN:VEVENT
UID:sabre-vobject-3bbb25cd-4943-4af1-b910-6729753b0780
DTSTAMP:20260425T205235Z
SUMMARY:Gymnastik Frau Reum
DTSTART;TZID=Europe/Berlin:20251124T090000
DTEND;TZID=Europe/Berlin:20251124T100000
LOCATION:Pfarrheim EG Großer Gruppenraum\, Schulstraße 12\, 86492 Egling 
 an der Paar
END:VEVENT
BEGIN:VEVENT
UID:sabre-vobject-2e9ca784-cf55-410f-b8bb-bd379a584114
DTSTAMP:20260425T205235Z
SUMMARY:Mutter Kind Gruppe ( Wörle )
DTSTART;TZID=Europe/Berlin:20251126T083000
DTEND;TZID=Europe/Berlin:20251126T110000
LOCATION:Pfarrheim EG Großer Gruppenraum\, Schulstraße 12\, 86492 Egling 
 an der Paar
END:VEVENT
BEGIN:VEVENT
UID:sabre-vobject-e07821ec-e97e-4add-91ec-c38fc8c959d9
DTSTAMP:20260425T205235Z
SUMMARY:Mutter Kind Gruppe ( Wild )
DTSTART;TZID=Europe/Berlin:20251127T083000
DTEND;TZID=Europe/Berlin:20251127T110000
LOCATION:Pfarrheim EG Großer Gruppenraum\, Schulstraße 12\, 86492 Egling 
 an der Paar
END:VEVENT
BEGIN:VEVENT
UID:sabre-vobject-46a2c495-3581-4fa2-ad5d-fda0dcc7b952
DTSTAMP:20260425T205235Z
SUMMARY:Mädchen Singgruppe
DTSTART;TZID=Europe/Berlin:20251128T163000
DTEND;TZID=Europe/Berlin:20251128T183000
LOCATION:Pfarrheim EG Großer Gruppenraum\, Schulstraße 12\, 86492 Egling 
 an der Paar
END:VEVENT
BEGIN:VEVENT
UID:sabre-vobject-2abe0fe6-215a-46e4-99e4-3d0c0423dce0
DTSTAMP:20260425T205235Z
SUMMARY:Christkindlmarkt
DTSTART;TZID=Europe/Berlin:20251129T080000
DTEND;TZID=Europe/Berlin:20251129T233000
LOCATION:Pfarrheim EG Großer Gruppenraum\, Schulstraße 12\, 86492 Egling 
 an der Paar
END:VEVENT
BEGIN:VEVENT
UID:sabre-vobject-fc265cb5-38f9-4b51-8466-d8a04f8320aa
DTSTAMP:20260425T205235Z
SUMMARY:Frauenbund Egling Heinrichshofen
DTSTART;TZID=Europe/Berlin:20251103T190000
DTEND;TZID=Europe/Berlin:20251103T220000
LOCATION:Pfarrheim EG Großer Gruppenraum\, Schulstraße 12\, 86492 Egling 
 an der Paar
END:VEVENT
BEGIN:VEVENT
UID:sabre-vobject-3be63825-10ec-4cb0-a446-20668ea86e9d
DTSTAMP:20260425T205235Z
SUMMARY:KV Sitzung
DTSTART;TZID=Europe/Berlin:20251103T190000
DTEND;TZID=Europe/Berlin:20251103T210000
LOCATION:Pfarrheim EG Großer Gruppenraum\, Schulstraße 12\, 86492 Egling 
 an der Paar
END:VEVENT
BEGIN:VEVENT
UID:sabre-vobject-2ecb61a8-7eef-48cb-b2dc-0419f7a2b375
DTSTAMP:20260425T205235Z
SUMMARY:St. Martin
DTSTART;TZID=Europe/Berlin:20251111T163000
DTEND;TZID=Europe/Berlin:20251111T183000
LOCATION:Pfarrheim EG Großer Gruppenraum\, Schulstraße 12\, 86492 Egling 
 an der Paar
END:VEVENT
BEGIN:VEVENT
UID:sabre-vobject-d3cf974d-29f8-4926-b2d1-e489ff01bcdf
DTSTAMP:20260425T205235Z
SUMMARY:Frauenbund Egling Heinrichshofen
DTSTART;TZID=Europe/Berlin:20251127T173000
DTEND;TZID=Europe/Berlin:20251127T203000
LOCATION:Pfarrheim EG Großer Gruppenraum\, Schulstraße 12\, 86492 Egling 
 an der Paar
END:VEVENT
END:VCALENDAR
