BEGIN:VCALENDAR
VERSION:2.0
PRODID:-//Sabre//Sabre VObject 4.5.8//EN
CALSCALE:GREGORIAN
NAME:PG Egling
X-WR-CALNAME:PG Egling
BEGIN:VEVENT
UID:sabre-vobject-dd0bac41-60ea-41f2-bdbd-8eb5a97cb282
DTSTAMP:20260425T161011Z
SUMMARY:Gymnastik Frau Reum
DTSTART;TZID=Europe/Berlin:20260601T090000
DTEND;TZID=Europe/Berlin:20260601T100000
LOCATION:Pfarrheim EG Großer Gruppenraum\, Schulstraße 12\, 86492 Egling 
 an der Paar
END:VEVENT
BEGIN:VEVENT
UID:sabre-vobject-5587142f-d142-4dce-9b1e-a7b8e95b8010
DTSTAMP:20260425T161011Z
SUMMARY:Mutter Kind Gruppe ( Wörle )
DTSTART;TZID=Europe/Berlin:20260603T083000
DTEND;TZID=Europe/Berlin:20260603T110000
LOCATION:Pfarrheim EG Großer Gruppenraum\, Schulstraße 12\, 86492 Egling 
 an der Paar
END:VEVENT
BEGIN:VEVENT
UID:sabre-vobject-117fb4b2-0a0c-4ef3-8e7c-42e41de640dc
DTSTAMP:20260425T161011Z
SUMMARY:Mutter Kind Gruppe ( Wild )
DTSTART;TZID=Europe/Berlin:20260604T083000
DTEND;TZID=Europe/Berlin:20260604T110000
LOCATION:Pfarrheim EG Großer Gruppenraum\, Schulstraße 12\, 86492 Egling 
 an der Paar
END:VEVENT
BEGIN:VEVENT
UID:sabre-vobject-f6c29766-c394-410f-aaa7-fd4ab5bd7642
DTSTAMP:20260425T161011Z
SUMMARY:Mädchen Singgruppe
DTSTART;TZID=Europe/Berlin:20260605T163000
DTEND;TZID=Europe/Berlin:20260605T183000
LOCATION:Pfarrheim EG Großer Gruppenraum\, Schulstraße 12\, 86492 Egling 
 an der Paar
END:VEVENT
BEGIN:VEVENT
UID:sabre-vobject-b7597cc9-c87b-4187-8b16-de4a7a6e78ac
DTSTAMP:20260425T161011Z
SUMMARY:Fam. Wichert
DTSTART;TZID=Europe/Berlin:20260606T000000
DTEND;TZID=Europe/Berlin:20260607T000000
LOCATION:Pfarrheim EG Großer Gruppenraum\, Schulstraße 12\, 86492 Egling 
 an der Paar
END:VEVENT
BEGIN:VEVENT
UID:sabre-vobject-4c8d5d03-6888-4f4e-8911-11dd33ecd16c
DTSTAMP:20260425T161011Z
SUMMARY:Gymnastik Frau Reum
DTSTART;TZID=Europe/Berlin:20260608T090000
DTEND;TZID=Europe/Berlin:20260608T100000
LOCATION:Pfarrheim EG Großer Gruppenraum\, Schulstraße 12\, 86492 Egling 
 an der Paar
END:VEVENT
BEGIN:VEVENT
UID:sabre-vobject-8b8928fe-50ad-47c7-897d-4bc65ca37bed
DTSTAMP:20260425T161011Z
SUMMARY:Heilige Messe mit anschl. Frühstück
DTSTART;TZID=Europe/Berlin:20260609T080000
DTEND;TZID=Europe/Berlin:20260609T103000
LOCATION:Pfarrheim EG Großer Gruppenraum\, Schulstraße 12\, 86492 Egling 
 an der Paar
END:VEVENT
BEGIN:VEVENT
UID:sabre-vobject-a541c0ad-5215-41cf-93f1-e6f24d30bac2
DTSTAMP:20260425T161011Z
SUMMARY:Mutter Kind Gruppe ( Wörle )
DTSTART;TZID=Europe/Berlin:20260610T083000
DTEND;TZID=Europe/Berlin:20260610T110000
LOCATION:Pfarrheim EG Großer Gruppenraum\, Schulstraße 12\, 86492 Egling 
 an der Paar
END:VEVENT
BEGIN:VEVENT
UID:sabre-vobject-066ec157-e439-4bde-b772-649a77da0269
DTSTAMP:20260425T161011Z
SUMMARY:Mutter Kind Gruppe ( Wild )
DTSTART;TZID=Europe/Berlin:20260611T083000
DTEND;TZID=Europe/Berlin:20260611T110000
LOCATION:Pfarrheim EG Großer Gruppenraum\, Schulstraße 12\, 86492 Egling 
 an der Paar
END:VEVENT
BEGIN:VEVENT
UID:sabre-vobject-aa31aafd-79e9-422b-89db-06c0566b3b00
DTSTAMP:20260425T161011Z
SUMMARY:Hedwig Bucher
DTSTART;TZID=Europe/Berlin:20260612T091500
DTEND;TZID=Europe/Berlin:20260612T231500
LOCATION:Pfarrheim EG Großer Gruppenraum\, Schulstraße 12\, 86492 Egling 
 an der Paar
END:VEVENT
BEGIN:VEVENT
UID:sabre-vobject-bf423f05-1b59-406d-8113-964662d3aeab
DTSTAMP:20260425T161011Z
SUMMARY:Mädchen Singgruppe
DTSTART;TZID=Europe/Berlin:20260612T163000
DTEND;TZID=Europe/Berlin:20260612T183000
LOCATION:Pfarrheim EG Großer Gruppenraum\, Schulstraße 12\, 86492 Egling 
 an der Paar
END:VEVENT
BEGIN:VEVENT
UID:sabre-vobject-86b3ac13-c39f-40a1-8c4e-582e5846733d
DTSTAMP:20260425T161011Z
SUMMARY:Gymnastik Frau Reum
DTSTART;TZID=Europe/Berlin:20260615T090000
DTEND;TZID=Europe/Berlin:20260615T100000
LOCATION:Pfarrheim EG Großer Gruppenraum\, Schulstraße 12\, 86492 Egling 
 an der Paar
END:VEVENT
BEGIN:VEVENT
UID:sabre-vobject-1e4e8175-e80a-4c43-8d49-9c66de29cb8a
DTSTAMP:20260425T161011Z
SUMMARY:Mutter Kind Gruppe ( Wörle )
DTSTART;TZID=Europe/Berlin:20260617T083000
DTEND;TZID=Europe/Berlin:20260617T110000
LOCATION:Pfarrheim EG Großer Gruppenraum\, Schulstraße 12\, 86492 Egling 
 an der Paar
END:VEVENT
BEGIN:VEVENT
UID:sabre-vobject-2a46912a-6894-4a1a-81ac-6d9c9793a3de
DTSTAMP:20260425T161011Z
SUMMARY:Mutter Kind Gruppe ( Wild )
DTSTART;TZID=Europe/Berlin:20260618T083000
DTEND;TZID=Europe/Berlin:20260618T110000
LOCATION:Pfarrheim EG Großer Gruppenraum\, Schulstraße 12\, 86492 Egling 
 an der Paar
END:VEVENT
BEGIN:VEVENT
UID:sabre-vobject-21514274-7965-46d8-8249-e6026989d3fd
DTSTAMP:20260425T161011Z
SUMMARY:Letzte Hilfe Kurs
DTSTART;TZID=Europe/Berlin:20260619T130000
DTEND;TZID=Europe/Berlin:20260619T180000
LOCATION:Pfarrheim EG Großer Gruppenraum\, Schulstraße 12\, 86492 Egling 
 an der Paar
END:VEVENT
BEGIN:VEVENT
UID:sabre-vobject-6002f4b0-4e31-4050-8f9d-afa6f969de23
DTSTAMP:20260425T161011Z
SUMMARY:Mädchen Singgruppe
DTSTART;TZID=Europe/Berlin:20260619T163000
DTEND;TZID=Europe/Berlin:20260619T183000
LOCATION:Pfarrheim EG Großer Gruppenraum\, Schulstraße 12\, 86492 Egling 
 an der Paar
END:VEVENT
BEGIN:VEVENT
UID:sabre-vobject-2f371d36-20d5-4dc8-8bc2-2d6ca3d51eb6
DTSTAMP:20260425T161011Z
SUMMARY:Mütter beten
DTSTART;TZID=Europe/Berlin:20260619T193000
DTEND;TZID=Europe/Berlin:20260619T213000
LOCATION:Pfarrheim EG Großer Gruppenraum\, Schulstraße 12\, 86492 Egling 
 an der Paar
END:VEVENT
BEGIN:VEVENT
UID:sabre-vobject-3f442e43-3906-46ce-abf6-e10850b6327a
DTSTAMP:20260425T161011Z
SUMMARY:Schulung Alltagsbegleiter
DTSTART;TZID=Europe/Berlin:20260620T090000
DTEND;TZID=Europe/Berlin:20260620T150000
LOCATION:Pfarrheim EG Großer Gruppenraum\, Schulstraße 12\, 86492 Egling 
 an der Paar
END:VEVENT
BEGIN:VEVENT
UID:sabre-vobject-3db8c5c7-f438-402e-a477-b77ecca57195
DTSTAMP:20260425T161011Z
SUMMARY:Gymnastik Frau Reum
DTSTART;TZID=Europe/Berlin:20260622T090000
DTEND;TZID=Europe/Berlin:20260622T100000
LOCATION:Pfarrheim EG Großer Gruppenraum\, Schulstraße 12\, 86492 Egling 
 an der Paar
END:VEVENT
BEGIN:VEVENT
UID:sabre-vobject-52e4159c-9a5b-402d-ad52-c49e67cc1352
DTSTAMP:20260425T161011Z
SUMMARY:Mutter Kind Gruppe ( Wörle )
DTSTART;TZID=Europe/Berlin:20260624T083000
DTEND;TZID=Europe/Berlin:20260624T110000
LOCATION:Pfarrheim EG Großer Gruppenraum\, Schulstraße 12\, 86492 Egling 
 an der Paar
END:VEVENT
BEGIN:VEVENT
UID:sabre-vobject-70b1e1c1-4f28-4f9b-9505-af39687b2a96
DTSTAMP:20260425T161011Z
SUMMARY:Mutter Kind Gruppe ( Wild )
DTSTART;TZID=Europe/Berlin:20260625T083000
DTEND;TZID=Europe/Berlin:20260625T110000
LOCATION:Pfarrheim EG Großer Gruppenraum\, Schulstraße 12\, 86492 Egling 
 an der Paar
END:VEVENT
BEGIN:VEVENT
UID:sabre-vobject-9d222b2d-6119-4ef7-86bc-137a5c94a9f8
DTSTAMP:20260425T161011Z
SUMMARY:Mädchen Singgruppe
DTSTART;TZID=Europe/Berlin:20260626T163000
DTEND;TZID=Europe/Berlin:20260626T183000
LOCATION:Pfarrheim EG Großer Gruppenraum\, Schulstraße 12\, 86492 Egling 
 an der Paar
END:VEVENT
BEGIN:VEVENT
UID:sabre-vobject-5a012885-afb1-41ab-a1a7-831052dc01c4
DTSTAMP:20260425T161011Z
SUMMARY:Gymnastik Frau Reum
DTSTART;TZID=Europe/Berlin:20260629T090000
DTEND;TZID=Europe/Berlin:20260629T100000
LOCATION:Pfarrheim EG Großer Gruppenraum\, Schulstraße 12\, 86492 Egling 
 an der Paar
END:VEVENT
END:VCALENDAR
