BEGIN:VCALENDAR
VERSION:2.0
PRODID:-//Sabre//Sabre VObject 4.5.8//EN
CALSCALE:GREGORIAN
NAME:PG Egling
X-WR-CALNAME:PG Egling
BEGIN:VEVENT
UID:sabre-vobject-fb77e284-3173-4bb9-a200-2cbadb11ca7b
DTSTAMP:20260426T012354Z
SUMMARY:Gabriele Tallafuß\, private Feier
DTSTART;TZID=Europe/Berlin:20261231T080000
DTEND;TZID=Europe/Berlin:20270101T160000
LOCATION:Pfarrheim EG Großer Gruppenraum\, Schulstraße 12\, 86492 Egling 
 an der Paar
END:VEVENT
END:VCALENDAR
