BEGIN:VCALENDAR
VERSION:2.0
PRODID:-//Sabre//Sabre VObject 4.5.8//EN
CALSCALE:GREGORIAN
NAME:PG Egling
X-WR-CALNAME:PG Egling
BEGIN:VEVENT
UID:sabre-vobject-f0066abd-1c2f-4666-a786-489c16aa1f0b
DTSTAMP:20260425T183613Z
SUMMARY:Mutter Kind Gruppe ( Wild )
DTSTART;TZID=Europe/Berlin:20260101T083000
DTEND;TZID=Europe/Berlin:20260101T110000
LOCATION:Pfarrheim EG Großer Gruppenraum\, Schulstraße 12\, 86492 Egling 
 an der Paar
END:VEVENT
BEGIN:VEVENT
UID:sabre-vobject-97664969-78b4-4735-b6ed-eeed4267ed22
DTSTAMP:20260425T183613Z
SUMMARY:Mädchen Singgruppe
DTSTART;TZID=Europe/Berlin:20260102T163000
DTEND;TZID=Europe/Berlin:20260102T183000
LOCATION:Pfarrheim EG Großer Gruppenraum\, Schulstraße 12\, 86492 Egling 
 an der Paar
END:VEVENT
BEGIN:VEVENT
UID:sabre-vobject-7e1208bf-5ba0-477b-9160-68e3db249ffa
DTSTAMP:20260425T183613Z
SUMMARY:Gymnastik Frau Reum
DTSTART;TZID=Europe/Berlin:20260105T090000
DTEND;TZID=Europe/Berlin:20260105T100000
LOCATION:Pfarrheim EG Großer Gruppenraum\, Schulstraße 12\, 86492 Egling 
 an der Paar
END:VEVENT
BEGIN:VEVENT
UID:sabre-vobject-f0c38e3e-afba-4099-8510-1aef14901fb4
DTSTAMP:20260425T183613Z
SUMMARY:Mutter Kind Gruppe ( Wörle )
DTSTART;TZID=Europe/Berlin:20260107T083000
DTEND;TZID=Europe/Berlin:20260107T110000
LOCATION:Pfarrheim EG Großer Gruppenraum\, Schulstraße 12\, 86492 Egling 
 an der Paar
END:VEVENT
BEGIN:VEVENT
UID:sabre-vobject-efc8dc2e-88ff-489d-aede-267050eff8d3
DTSTAMP:20260425T183613Z
SUMMARY:Mutter Kind Gruppe ( Wild )
DTSTART;TZID=Europe/Berlin:20260108T083000
DTEND;TZID=Europe/Berlin:20260108T110000
LOCATION:Pfarrheim EG Großer Gruppenraum\, Schulstraße 12\, 86492 Egling 
 an der Paar
END:VEVENT
BEGIN:VEVENT
UID:sabre-vobject-fd0aa53e-f00c-47a5-95b3-d1fdb3996594
DTSTAMP:20260425T183613Z
SUMMARY:Mädchen Singgruppe
DTSTART;TZID=Europe/Berlin:20260109T163000
DTEND;TZID=Europe/Berlin:20260109T183000
LOCATION:Pfarrheim EG Großer Gruppenraum\, Schulstraße 12\, 86492 Egling 
 an der Paar
END:VEVENT
BEGIN:VEVENT
UID:sabre-vobject-140596c4-8100-488f-a37e-993c061c1c6c
DTSTAMP:20260425T183613Z
SUMMARY:Gymnastik Frau Reum
DTSTART;TZID=Europe/Berlin:20260112T090000
DTEND;TZID=Europe/Berlin:20260112T100000
LOCATION:Pfarrheim EG Großer Gruppenraum\, Schulstraße 12\, 86492 Egling 
 an der Paar
END:VEVENT
BEGIN:VEVENT
UID:sabre-vobject-93bf49be-141e-4e82-96f7-3dba04b25d83
DTSTAMP:20260425T183613Z
SUMMARY:Heilige Messe mit anschl. Frühstück
DTSTART;TZID=Europe/Berlin:20260113T080000
DTEND;TZID=Europe/Berlin:20260113T103000
LOCATION:Pfarrheim EG Großer Gruppenraum\, Schulstraße 12\, 86492 Egling 
 an der Paar
END:VEVENT
BEGIN:VEVENT
UID:sabre-vobject-1a4e89a5-c8df-479f-b7f4-67fb7ed1d92f
DTSTAMP:20260425T183613Z
SUMMARY:Mutter Kind Gruppe ( Wörle )
DTSTART;TZID=Europe/Berlin:20260114T083000
DTEND;TZID=Europe/Berlin:20260114T110000
LOCATION:Pfarrheim EG Großer Gruppenraum\, Schulstraße 12\, 86492 Egling 
 an der Paar
END:VEVENT
BEGIN:VEVENT
UID:sabre-vobject-a0e2e22c-3dd6-40d3-8ce0-116ed57696ec
DTSTAMP:20260425T183613Z
SUMMARY:Mutter Kind Gruppe ( Wild )
DTSTART;TZID=Europe/Berlin:20260115T083000
DTEND;TZID=Europe/Berlin:20260115T110000
LOCATION:Pfarrheim EG Großer Gruppenraum\, Schulstraße 12\, 86492 Egling 
 an der Paar
END:VEVENT
BEGIN:VEVENT
UID:sabre-vobject-8a877f4b-a6cc-4fdf-891d-b932acb384a4
DTSTAMP:20260425T183613Z
SUMMARY:Mädchen Singgruppe
DTSTART;TZID=Europe/Berlin:20260116T163000
DTEND;TZID=Europe/Berlin:20260116T183000
LOCATION:Pfarrheim EG Großer Gruppenraum\, Schulstraße 12\, 86492 Egling 
 an der Paar
END:VEVENT
BEGIN:VEVENT
UID:sabre-vobject-f66e2010-fba5-453c-8ced-2b140f7a5985
DTSTAMP:20260425T183613Z
SUMMARY:Mütter beten
DTSTART;TZID=Europe/Berlin:20260116T193000
DTEND;TZID=Europe/Berlin:20260116T213000
LOCATION:Pfarrheim EG Großer Gruppenraum\, Schulstraße 12\, 86492 Egling 
 an der Paar
END:VEVENT
BEGIN:VEVENT
UID:sabre-vobject-0d4f1866-5e99-4388-a7ce-6041c2c7be1c
DTSTAMP:20260425T183613Z
SUMMARY:Gymnastik Frau Reum
DTSTART;TZID=Europe/Berlin:20260119T090000
DTEND;TZID=Europe/Berlin:20260119T100000
LOCATION:Pfarrheim EG Großer Gruppenraum\, Schulstraße 12\, 86492 Egling 
 an der Paar
END:VEVENT
BEGIN:VEVENT
UID:sabre-vobject-146ca45d-a0d1-458c-b265-55c006a896f8
DTSTAMP:20260425T183613Z
SUMMARY:Mutter Kind Gruppe ( Wörle )
DTSTART;TZID=Europe/Berlin:20260121T083000
DTEND;TZID=Europe/Berlin:20260121T110000
LOCATION:Pfarrheim EG Großer Gruppenraum\, Schulstraße 12\, 86492 Egling 
 an der Paar
END:VEVENT
BEGIN:VEVENT
UID:sabre-vobject-eb62b79e-ef39-4186-aa02-e94d472da44d
DTSTAMP:20260425T183613Z
SUMMARY:Mutter Kind Gruppe ( Wild )
DTSTART;TZID=Europe/Berlin:20260122T083000
DTEND;TZID=Europe/Berlin:20260122T110000
LOCATION:Pfarrheim EG Großer Gruppenraum\, Schulstraße 12\, 86492 Egling 
 an der Paar
END:VEVENT
BEGIN:VEVENT
UID:sabre-vobject-bc87875d-c0fc-4e26-b643-bf760905c239
DTSTAMP:20260425T183613Z
SUMMARY:Mädchen Singgruppe
DTSTART;TZID=Europe/Berlin:20260123T163000
DTEND;TZID=Europe/Berlin:20260123T183000
LOCATION:Pfarrheim EG Großer Gruppenraum\, Schulstraße 12\, 86492 Egling 
 an der Paar
END:VEVENT
BEGIN:VEVENT
UID:sabre-vobject-0814501c-6939-406a-9ac1-e6a834191f54
DTSTAMP:20260425T183613Z
SUMMARY:Gymnastik Frau Reum
DTSTART;TZID=Europe/Berlin:20260126T090000
DTEND;TZID=Europe/Berlin:20260126T100000
LOCATION:Pfarrheim EG Großer Gruppenraum\, Schulstraße 12\, 86492 Egling 
 an der Paar
END:VEVENT
BEGIN:VEVENT
UID:sabre-vobject-15186101-bb5d-42b9-af6f-86fe0588d00a
DTSTAMP:20260425T183613Z
SUMMARY:KV Sitzung
DTSTART;TZID=Europe/Berlin:20260126T190000
DTEND;TZID=Europe/Berlin:20260126T203000
LOCATION:Pfarrheim EG Großer Gruppenraum\, Schulstraße 12\, 86492 Egling 
 an der Paar
END:VEVENT
BEGIN:VEVENT
UID:sabre-vobject-0238d140-f636-477a-ad2a-dc33323412ba
DTSTAMP:20260425T183613Z
SUMMARY:Mutter Kind Gruppe ( Wörle )
DTSTART;TZID=Europe/Berlin:20260128T083000
DTEND;TZID=Europe/Berlin:20260128T110000
LOCATION:Pfarrheim EG Großer Gruppenraum\, Schulstraße 12\, 86492 Egling 
 an der Paar
END:VEVENT
BEGIN:VEVENT
UID:sabre-vobject-0f6a985a-99a9-4fa3-9f4b-6baf9b2c2682
DTSTAMP:20260425T183613Z
SUMMARY:Mutter Kind Gruppe ( Wild )
DTSTART;TZID=Europe/Berlin:20260129T083000
DTEND;TZID=Europe/Berlin:20260129T110000
LOCATION:Pfarrheim EG Großer Gruppenraum\, Schulstraße 12\, 86492 Egling 
 an der Paar
END:VEVENT
BEGIN:VEVENT
UID:sabre-vobject-49d07bc4-3970-4435-8e94-5096291af648
DTSTAMP:20260425T183613Z
SUMMARY:Gesundheitsvortag
DTSTART;TZID=Europe/Berlin:20260129T183000
DTEND;TZID=Europe/Berlin:20260129T210000
LOCATION:Pfarrheim EG Großer Gruppenraum\, Schulstraße 12\, 86492 Egling 
 an der Paar
END:VEVENT
BEGIN:VEVENT
UID:sabre-vobject-ff7e58db-f3e2-451b-a6b7-d639ac6da507
DTSTAMP:20260425T183613Z
SUMMARY:Mädchen Singgruppe
DTSTART;TZID=Europe/Berlin:20260130T163000
DTEND;TZID=Europe/Berlin:20260130T183000
LOCATION:Pfarrheim EG Großer Gruppenraum\, Schulstraße 12\, 86492 Egling 
 an der Paar
END:VEVENT
BEGIN:VEVENT
UID:sabre-vobject-268b5229-93aa-4836-ac21-700d83db03ef
DTSTAMP:20260425T183613Z
SUMMARY:Frauenbund Egling Heinrichshofen
DTSTART;TZID=Europe/Berlin:20260112T190000
DTEND;TZID=Europe/Berlin:20260112T213000
LOCATION:Pfarrheim EG Großer Gruppenraum\, Schulstraße 12\, 86492 Egling 
 an der Paar
END:VEVENT
END:VCALENDAR
