BEGIN:VCALENDAR
VERSION:2.0
PRODID:-//Sabre//Sabre VObject 4.5.8//EN
CALSCALE:GREGORIAN
NAME:PG Egling
X-WR-CALNAME:PG Egling
BEGIN:VEVENT
UID:sabre-vobject-17de8502-720e-49cf-be18-a9610db24e89
DTSTAMP:20260423T234013Z
SUMMARY:Gymnastik Frau Reum
DTSTART;TZID=Europe/Berlin:20251215T090000
DTEND;TZID=Europe/Berlin:20251215T100000
LOCATION:Pfarrheim EG Großer Gruppenraum\, Schulstraße 12\, 86492 Egling 
 an der Paar
END:VEVENT
BEGIN:VEVENT
UID:sabre-vobject-4c7fd743-d771-4b2b-834f-1b093514b351
DTSTAMP:20260423T234013Z
SUMMARY:Mitarbeitertreffen
DTSTART;TZID=Europe/Berlin:20251216T170000
DTEND;TZID=Europe/Berlin:20251216T213000
LOCATION:Pfarrheim EG Großer Gruppenraum\, Schulstraße 12\, 86492 Egling 
 an der Paar
END:VEVENT
BEGIN:VEVENT
UID:sabre-vobject-ee09c6ca-cd4f-434b-94c7-d12205177827
DTSTAMP:20260423T234013Z
SUMMARY:Mutter Kind Gruppe ( Wörle )
DTSTART;TZID=Europe/Berlin:20251217T083000
DTEND;TZID=Europe/Berlin:20251217T110000
LOCATION:Pfarrheim EG Großer Gruppenraum\, Schulstraße 12\, 86492 Egling 
 an der Paar
END:VEVENT
BEGIN:VEVENT
UID:sabre-vobject-8d02fff1-52e9-417d-8d3f-4fff5b225796
DTSTAMP:20260423T234013Z
SUMMARY:Mutter Kind Gruppe ( Wild )
DTSTART;TZID=Europe/Berlin:20251218T083000
DTEND;TZID=Europe/Berlin:20251218T110000
LOCATION:Pfarrheim EG Großer Gruppenraum\, Schulstraße 12\, 86492 Egling 
 an der Paar
END:VEVENT
BEGIN:VEVENT
UID:sabre-vobject-4fc0be9f-d940-4ab6-94b0-7cc7c449696a
DTSTAMP:20260423T234013Z
SUMMARY:Mädchen Singgruppe
DTSTART;TZID=Europe/Berlin:20251219T163000
DTEND;TZID=Europe/Berlin:20251219T183000
LOCATION:Pfarrheim EG Großer Gruppenraum\, Schulstraße 12\, 86492 Egling 
 an der Paar
END:VEVENT
END:VCALENDAR
