BEGIN:VCALENDAR
VERSION:2.0
PRODID:-//Sabre//Sabre VObject 4.5.8//EN
CALSCALE:GREGORIAN
NAME:PG Egling
X-WR-CALNAME:PG Egling
BEGIN:VEVENT
UID:sabre-vobject-de6a3408-2cff-4fca-b620-53347ae7afb3
DTSTAMP:20260423T234015Z
SUMMARY:Gymnastik Frau Reum
DTSTART;TZID=Europe/Berlin:20251208T090000
DTEND;TZID=Europe/Berlin:20251208T100000
LOCATION:Pfarrheim EG Großer Gruppenraum\, Schulstraße 12\, 86492 Egling 
 an der Paar
END:VEVENT
BEGIN:VEVENT
UID:sabre-vobject-7c8a066e-4a91-4f63-873f-28ab8bb96178
DTSTAMP:20260423T234015Z
SUMMARY:Heilige Messe mit anschl. Frühstück
DTSTART;TZID=Europe/Berlin:20251209T080000
DTEND;TZID=Europe/Berlin:20251209T103000
LOCATION:Pfarrheim EG Großer Gruppenraum\, Schulstraße 12\, 86492 Egling 
 an der Paar
END:VEVENT
BEGIN:VEVENT
UID:sabre-vobject-00730d21-2b83-4e24-b5d2-d53de1746a51
DTSTAMP:20260423T234015Z
SUMMARY:Mutter Kind Gruppe ( Wörle )
DTSTART;TZID=Europe/Berlin:20251210T083000
DTEND;TZID=Europe/Berlin:20251210T110000
LOCATION:Pfarrheim EG Großer Gruppenraum\, Schulstraße 12\, 86492 Egling 
 an der Paar
END:VEVENT
BEGIN:VEVENT
UID:sabre-vobject-a96402f4-f366-4fa3-b1ac-093b2a3ba580
DTSTAMP:20260423T234015Z
SUMMARY:Mutter Kind Gruppe ( Wild )
DTSTART;TZID=Europe/Berlin:20251211T083000
DTEND;TZID=Europe/Berlin:20251211T110000
LOCATION:Pfarrheim EG Großer Gruppenraum\, Schulstraße 12\, 86492 Egling 
 an der Paar
END:VEVENT
BEGIN:VEVENT
UID:sabre-vobject-6423c441-2612-4d4d-a700-2d5050f797c4
DTSTAMP:20260423T234015Z
SUMMARY:Mädchen Singgruppe
DTSTART;TZID=Europe/Berlin:20251212T163000
DTEND;TZID=Europe/Berlin:20251212T183000
LOCATION:Pfarrheim EG Großer Gruppenraum\, Schulstraße 12\, 86492 Egling 
 an der Paar
END:VEVENT
END:VCALENDAR
