BEGIN:VCALENDAR
VERSION:2.0
PRODID:-//Sabre//Sabre VObject 4.5.8//EN
CALSCALE:GREGORIAN
NAME:PG Egling
X-WR-CALNAME:PG Egling
BEGIN:VEVENT
UID:sabre-vobject-7c69e81f-a3d6-47b9-86d7-fefdd7bfa4f7
DTSTAMP:20260423T170828Z
SUMMARY:Gymnastik Frau Reum
DTSTART;TZID=Europe/Berlin:20260608T090000
DTEND;TZID=Europe/Berlin:20260608T100000
LOCATION:Pfarrheim EG Großer Gruppenraum\, Schulstraße 12\, 86492 Egling 
 an der Paar
END:VEVENT
BEGIN:VEVENT
UID:sabre-vobject-5d798541-ac6b-4ea4-b103-f3913628b525
DTSTAMP:20260423T170828Z
SUMMARY:Heilige Messe mit anschl. Frühstück
DTSTART;TZID=Europe/Berlin:20260609T080000
DTEND;TZID=Europe/Berlin:20260609T103000
LOCATION:Pfarrheim EG Großer Gruppenraum\, Schulstraße 12\, 86492 Egling 
 an der Paar
END:VEVENT
BEGIN:VEVENT
UID:sabre-vobject-bb81b9c3-db26-4bfc-ae30-56598915297a
DTSTAMP:20260423T170828Z
SUMMARY:Mutter Kind Gruppe ( Wörle )
DTSTART;TZID=Europe/Berlin:20260610T083000
DTEND;TZID=Europe/Berlin:20260610T110000
LOCATION:Pfarrheim EG Großer Gruppenraum\, Schulstraße 12\, 86492 Egling 
 an der Paar
END:VEVENT
BEGIN:VEVENT
UID:sabre-vobject-d7f08d5d-1d18-4080-a23b-11b73167a933
DTSTAMP:20260423T170828Z
SUMMARY:Mutter Kind Gruppe ( Wild )
DTSTART;TZID=Europe/Berlin:20260611T083000
DTEND;TZID=Europe/Berlin:20260611T110000
LOCATION:Pfarrheim EG Großer Gruppenraum\, Schulstraße 12\, 86492 Egling 
 an der Paar
END:VEVENT
BEGIN:VEVENT
UID:sabre-vobject-22286625-542b-436c-bb34-e8f519886272
DTSTAMP:20260423T170828Z
SUMMARY:Hedwig Bucher
DTSTART;TZID=Europe/Berlin:20260612T091500
DTEND;TZID=Europe/Berlin:20260612T231500
LOCATION:Pfarrheim EG Großer Gruppenraum\, Schulstraße 12\, 86492 Egling 
 an der Paar
END:VEVENT
BEGIN:VEVENT
UID:sabre-vobject-065d9e6b-0a5e-4318-895c-1bda2abb5de6
DTSTAMP:20260423T170828Z
SUMMARY:Mädchen Singgruppe
DTSTART;TZID=Europe/Berlin:20260612T163000
DTEND;TZID=Europe/Berlin:20260612T183000
LOCATION:Pfarrheim EG Großer Gruppenraum\, Schulstraße 12\, 86492 Egling 
 an der Paar
END:VEVENT
END:VCALENDAR
