BEGIN:VCALENDAR
VERSION:2.0
PRODID:-//Sabre//Sabre VObject 4.5.8//EN
CALSCALE:GREGORIAN
NAME:PG Egling
X-WR-CALNAME:PG Egling
BEGIN:VEVENT
UID:sabre-vobject-9c60c411-eeca-4d70-ba20-02c5d8e7bb0b
DTSTAMP:20260423T170827Z
SUMMARY:Gymnastik Frau Reum
DTSTART;TZID=Europe/Berlin:20260601T090000
DTEND;TZID=Europe/Berlin:20260601T100000
LOCATION:Pfarrheim EG Großer Gruppenraum\, Schulstraße 12\, 86492 Egling 
 an der Paar
END:VEVENT
BEGIN:VEVENT
UID:sabre-vobject-476ae73b-bfdf-4eda-a5d8-56e702bf4bf5
DTSTAMP:20260423T170827Z
SUMMARY:Mutter Kind Gruppe ( Wörle )
DTSTART;TZID=Europe/Berlin:20260603T083000
DTEND;TZID=Europe/Berlin:20260603T110000
LOCATION:Pfarrheim EG Großer Gruppenraum\, Schulstraße 12\, 86492 Egling 
 an der Paar
END:VEVENT
BEGIN:VEVENT
UID:sabre-vobject-0008ee78-f81e-4768-bbcc-bba4b418a1f0
DTSTAMP:20260423T170827Z
SUMMARY:Mutter Kind Gruppe ( Wild )
DTSTART;TZID=Europe/Berlin:20260604T083000
DTEND;TZID=Europe/Berlin:20260604T110000
LOCATION:Pfarrheim EG Großer Gruppenraum\, Schulstraße 12\, 86492 Egling 
 an der Paar
END:VEVENT
BEGIN:VEVENT
UID:sabre-vobject-1894d869-c66c-4991-8044-09e2948179cf
DTSTAMP:20260423T170827Z
SUMMARY:Mädchen Singgruppe
DTSTART;TZID=Europe/Berlin:20260605T163000
DTEND;TZID=Europe/Berlin:20260605T183000
LOCATION:Pfarrheim EG Großer Gruppenraum\, Schulstraße 12\, 86492 Egling 
 an der Paar
END:VEVENT
BEGIN:VEVENT
UID:sabre-vobject-81c77dd3-21af-4aaf-b2e0-9acc00ad2f9f
DTSTAMP:20260423T170827Z
SUMMARY:Fam. Wichert
DTSTART;TZID=Europe/Berlin:20260606T000000
DTEND;TZID=Europe/Berlin:20260607T000000
LOCATION:Pfarrheim EG Großer Gruppenraum\, Schulstraße 12\, 86492 Egling 
 an der Paar
END:VEVENT
END:VCALENDAR
