BEGIN:VCALENDAR
VERSION:2.0
PRODID:-//Sabre//Sabre VObject 4.5.8//EN
CALSCALE:GREGORIAN
NAME:PG Egling
X-WR-CALNAME:PG Egling
BEGIN:VEVENT
UID:sabre-vobject-ebb873c8-8cab-416b-8af1-3abd35b86eee
DTSTAMP:20260423T131344Z
SUMMARY:Gymnastik Frau Reum
DTSTART;TZID=Europe/Berlin:20260406T090000
DTEND;TZID=Europe/Berlin:20260406T100000
LOCATION:Pfarrheim EG Großer Gruppenraum\, Schulstraße 12\, 86492 Egling 
 an der Paar
END:VEVENT
BEGIN:VEVENT
UID:sabre-vobject-f04ef7f4-2df6-4fe5-82a5-674ffb249608
DTSTAMP:20260423T131344Z
SUMMARY:Mutter Kind Gruppe ( Wörle )
DTSTART;TZID=Europe/Berlin:20260408T083000
DTEND;TZID=Europe/Berlin:20260408T110000
LOCATION:Pfarrheim EG Großer Gruppenraum\, Schulstraße 12\, 86492 Egling 
 an der Paar
END:VEVENT
BEGIN:VEVENT
UID:sabre-vobject-178e4f04-2f5f-4c18-8299-f1f4f46fcd67
DTSTAMP:20260423T131344Z
SUMMARY:Mutter Kind Gruppe ( Wild )
DTSTART;TZID=Europe/Berlin:20260409T083000
DTEND;TZID=Europe/Berlin:20260409T110000
LOCATION:Pfarrheim EG Großer Gruppenraum\, Schulstraße 12\, 86492 Egling 
 an der Paar
END:VEVENT
BEGIN:VEVENT
UID:sabre-vobject-9c6c8b7d-1d43-4ac6-919f-4726121f0f62
DTSTAMP:20260423T131344Z
SUMMARY:Mädchen Singgruppe
DTSTART;TZID=Europe/Berlin:20260410T163000
DTEND;TZID=Europe/Berlin:20260410T183000
LOCATION:Pfarrheim EG Großer Gruppenraum\, Schulstraße 12\, 86492 Egling 
 an der Paar
END:VEVENT
BEGIN:VEVENT
UID:sabre-vobject-11fad368-8583-4619-8142-450be1310d86
DTSTAMP:20260423T131344Z
SUMMARY:Familie Ruile
DTSTART;TZID=Europe/Berlin:20260412T084500
DTEND;TZID=Europe/Berlin:20260412T204500
LOCATION:Pfarrheim Küche\, Schulstraße 12\, 86492 Egling an der Paar
END:VEVENT
END:VCALENDAR
