BEGIN:VCALENDAR
VERSION:2.0
PRODID:-//Sabre//Sabre VObject 4.5.8//EN
CALSCALE:GREGORIAN
NAME:PG Egling
X-WR-CALNAME:PG Egling
BEGIN:VEVENT
UID:sabre-vobject-156e5911-2cba-4448-b8a4-d488faa38f4b
DTSTAMP:20260423T153852Z
SUMMARY:Gymnastik Frau Reum
DTSTART;TZID=Europe/Berlin:20260323T090000
DTEND;TZID=Europe/Berlin:20260323T100000
LOCATION:Pfarrheim EG Großer Gruppenraum\, Schulstraße 12\, 86492 Egling 
 an der Paar
END:VEVENT
BEGIN:VEVENT
UID:sabre-vobject-6a7ab882-1c28-4714-aea9-b47f46dea1eb
DTSTAMP:20260423T153852Z
SUMMARY:Mutter Kind Gruppe ( Wörle )
DTSTART;TZID=Europe/Berlin:20260325T083000
DTEND;TZID=Europe/Berlin:20260325T110000
LOCATION:Pfarrheim EG Großer Gruppenraum\, Schulstraße 12\, 86492 Egling 
 an der Paar
END:VEVENT
BEGIN:VEVENT
UID:sabre-vobject-92f7e506-341b-4763-a9ca-65b44028f539
DTSTAMP:20260423T153852Z
SUMMARY:Mutter Kind Gruppe ( Wild )
DTSTART;TZID=Europe/Berlin:20260326T083000
DTEND;TZID=Europe/Berlin:20260326T110000
LOCATION:Pfarrheim EG Großer Gruppenraum\, Schulstraße 12\, 86492 Egling 
 an der Paar
END:VEVENT
BEGIN:VEVENT
UID:sabre-vobject-ed23289d-917e-4577-88d3-dae42657828c
DTSTAMP:20260423T153852Z
SUMMARY:Marionettentheater Richter
DTSTART;TZID=Europe/Berlin:20260326T140000
DTEND;TZID=Europe/Berlin:20260326T170000
LOCATION:Pfarrheim Saal 1. OG\, Schulstraße 12\, 86492 Egling an der Paar
END:VEVENT
BEGIN:VEVENT
UID:sabre-vobject-c66268b2-2d2b-4fd4-9d5e-ea00f5782527
DTSTAMP:20260423T153852Z
SUMMARY:Fam. Beer private Feier
DTSTART;TZID=Europe/Berlin:20260327T120000
DTEND;TZID=Europe/Berlin:20260327T230000
LOCATION:Pfarrheim Küche\, Schulstraße 12\, 86492 Egling an der Paar
END:VEVENT
BEGIN:VEVENT
UID:sabre-vobject-c4a6c5d0-4c57-43d2-993a-5e55ed4e15bc
DTSTAMP:20260423T153852Z
SUMMARY:Mädchen Singgruppe
DTSTART;TZID=Europe/Berlin:20260327T163000
DTEND;TZID=Europe/Berlin:20260327T183000
LOCATION:Pfarrheim EG Großer Gruppenraum\, Schulstraße 12\, 86492 Egling 
 an der Paar
END:VEVENT
BEGIN:VEVENT
UID:sabre-vobject-b00cf015-f902-4289-955f-ceb284393422
DTSTAMP:20260423T153852Z
SUMMARY:Schumertl Konzert Vorbereitung
DTSTART;TZID=Europe/Berlin:20260328T150000
DTEND;TZID=Europe/Berlin:20260328T220000
LOCATION:Pfarrheim EG Großer Gruppenraum\, Schulstraße 12\, 86492 Egling 
 an der Paar
END:VEVENT
BEGIN:VEVENT
UID:sabre-vobject-3c1a7232-3195-4aaa-9017-2bcddd63b255
DTSTAMP:20260423T153852Z
SUMMARY:Geburtstagsfeier
DTSTART;TZID=Europe/Berlin:20260327T120000
DTEND;TZID=Europe/Berlin:20260328T000000
LOCATION:Pfarrheim Saal 1. OG\, Schulstraße 12\, 86492 Egling an der Paar
END:VEVENT
END:VCALENDAR
