BEGIN:VCALENDAR
VERSION:2.0
PRODID:-//Sabre//Sabre VObject 4.5.8//EN
CALSCALE:GREGORIAN
NAME:PG Egling
X-WR-CALNAME:PG Egling
BEGIN:VEVENT
UID:sabre-vobject-7d0cb7f0-769a-40dc-8edc-0b053ebe3372
DTSTAMP:20260423T153851Z
SUMMARY:Gymnastik Frau Reum
DTSTART;TZID=Europe/Berlin:20260316T090000
DTEND;TZID=Europe/Berlin:20260316T100000
LOCATION:Pfarrheim EG Großer Gruppenraum\, Schulstraße 12\, 86492 Egling 
 an der Paar
END:VEVENT
BEGIN:VEVENT
UID:sabre-vobject-0350c9e9-c91b-472c-88ab-56e7b1271a33
DTSTAMP:20260423T153851Z
SUMMARY:Mutter Kind Gruppe ( Wörle )
DTSTART;TZID=Europe/Berlin:20260318T083000
DTEND;TZID=Europe/Berlin:20260318T110000
LOCATION:Pfarrheim EG Großer Gruppenraum\, Schulstraße 12\, 86492 Egling 
 an der Paar
END:VEVENT
BEGIN:VEVENT
UID:sabre-vobject-97855fe1-4d75-44db-b9e9-f3702d29cd3b
DTSTAMP:20260423T153851Z
SUMMARY:Mutter Kind Gruppe ( Wild )
DTSTART;TZID=Europe/Berlin:20260319T083000
DTEND;TZID=Europe/Berlin:20260319T110000
LOCATION:Pfarrheim EG Großer Gruppenraum\, Schulstraße 12\, 86492 Egling 
 an der Paar
END:VEVENT
BEGIN:VEVENT
UID:sabre-vobject-e3974df3-50b2-4396-9c92-407775014413
DTSTAMP:20260423T153851Z
SUMMARY:Mädchen Singgruppe
DTSTART;TZID=Europe/Berlin:20260320T163000
DTEND;TZID=Europe/Berlin:20260320T183000
LOCATION:Pfarrheim EG Großer Gruppenraum\, Schulstraße 12\, 86492 Egling 
 an der Paar
END:VEVENT
BEGIN:VEVENT
UID:sabre-vobject-7d225f4d-d189-4fe3-b7ab-b848f94cc6f9
DTSTAMP:20260423T153851Z
SUMMARY:Fastenessen und Solidaritätslauf
DTSTART;TZID=Europe/Berlin:20260322T080000
DTEND;TZID=Europe/Berlin:20260322T181500
LOCATION:Pfarrheim EG Großer Gruppenraum\, Schulstraße 12\, 86492 Egling 
 an der Paar
END:VEVENT
BEGIN:VEVENT
UID:sabre-vobject-33d65f78-fb8a-4ed4-a180-d0e2c3441c1a
DTSTAMP:20260423T153851Z
SUMMARY:Mütter beten
DTSTART;TZID=Europe/Berlin:20260322T183000
DTEND;TZID=Europe/Berlin:20260322T203000
LOCATION:Pfarrheim EG Großer Gruppenraum\, Schulstraße 12\, 86492 Egling 
 an der Paar
END:VEVENT
END:VCALENDAR
