BEGIN:VCALENDAR
VERSION:2.0
PRODID:-//Sabre//Sabre VObject 4.5.8//EN
CALSCALE:GREGORIAN
NAME:PG Egling
X-WR-CALNAME:PG Egling
BEGIN:VEVENT
UID:sabre-vobject-f3aa55c0-c0e2-42f9-be0a-8be68367c11c
DTSTAMP:20260423T143607Z
SUMMARY:Gymnastik Frau Reum
DTSTART;TZID=Europe/Berlin:20260309T090000
DTEND;TZID=Europe/Berlin:20260309T100000
LOCATION:Pfarrheim EG Großer Gruppenraum\, Schulstraße 12\, 86492 Egling 
 an der Paar
END:VEVENT
BEGIN:VEVENT
UID:sabre-vobject-c20c94bc-799a-41dd-8371-0477b8ed0332
DTSTAMP:20260423T143607Z
SUMMARY:Heilige Messe mit anschl. Frühstück
DTSTART;TZID=Europe/Berlin:20260310T080000
DTEND;TZID=Europe/Berlin:20260310T103000
LOCATION:Pfarrheim EG Großer Gruppenraum\, Schulstraße 12\, 86492 Egling 
 an der Paar
END:VEVENT
BEGIN:VEVENT
UID:sabre-vobject-66fe282b-daec-4204-9c18-84ced47736c3
DTSTAMP:20260423T143607Z
SUMMARY:Mutter Kind Gruppe ( Wörle )
DTSTART;TZID=Europe/Berlin:20260311T083000
DTEND;TZID=Europe/Berlin:20260311T110000
LOCATION:Pfarrheim EG Großer Gruppenraum\, Schulstraße 12\, 86492 Egling 
 an der Paar
END:VEVENT
BEGIN:VEVENT
UID:sabre-vobject-c545f30e-b34e-44ac-9de4-d9894be5386e
DTSTAMP:20260423T143607Z
SUMMARY:Seniorennachmittag
DTSTART;TZID=Europe/Berlin:20260311T130000
DTEND;TZID=Europe/Berlin:20260311T173000
LOCATION:Pfarrheim EG Großer Gruppenraum\, Schulstraße 12\, 86492 Egling 
 an der Paar
END:VEVENT
BEGIN:VEVENT
UID:sabre-vobject-d35f5a17-bca9-4feb-a13d-01f749f1bea3
DTSTAMP:20260423T143607Z
SUMMARY:Mutter Kind Gruppe ( Wild )
DTSTART;TZID=Europe/Berlin:20260312T083000
DTEND;TZID=Europe/Berlin:20260312T110000
LOCATION:Pfarrheim EG Großer Gruppenraum\, Schulstraße 12\, 86492 Egling 
 an der Paar
END:VEVENT
BEGIN:VEVENT
UID:sabre-vobject-d86e781f-ab5d-44b5-b516-8540a0aa840e
DTSTAMP:20260423T143607Z
SUMMARY:Mädchen Singgruppe
DTSTART;TZID=Europe/Berlin:20260313T163000
DTEND;TZID=Europe/Berlin:20260313T183000
LOCATION:Pfarrheim EG Großer Gruppenraum\, Schulstraße 12\, 86492 Egling 
 an der Paar
END:VEVENT
BEGIN:VEVENT
UID:sabre-vobject-cceee450-7c6d-4cf5-af98-9da65c07d912
DTSTAMP:20260423T143607Z
SUMMARY:Fam. Beer
DTSTART;TZID=Europe/Berlin:20260314T070000
DTEND;TZID=Europe/Berlin:20260314T200000
LOCATION:Pfarrheim EG Großer Gruppenraum\, Schulstraße 12\, 86492 Egling 
 an der Paar
END:VEVENT
BEGIN:VEVENT
UID:sabre-vobject-4d34f8b4-c9e6-4cbc-9335-af7f1c3b889e
DTSTAMP:20260423T143607Z
SUMMARY:Blaskapelle Egling Heinrichshofen
DTSTART;TZID=Europe/Berlin:20260315T080000
DTEND;TZID=Europe/Berlin:20260315T140000
LOCATION:Pfarrheim Saal 1. OG\, Schulstraße 12\, 86492 Egling an der Paar
END:VEVENT
BEGIN:VEVENT
UID:sabre-vobject-ac49e76b-0fc8-4044-84ec-858d3b34fe46
DTSTAMP:20260423T143607Z
SUMMARY:Frauenbund Egling Heinrichshofen
DTSTART;TZID=Europe/Berlin:20260309T190000
DTEND;TZID=Europe/Berlin:20260309T220000
LOCATION:Pfarrheim EG Kleiner Gruppenraum\, Schulstraße 12\, 86492 Egling 
 an der Paar
END:VEVENT
BEGIN:VEVENT
UID:sabre-vobject-e6d3db24-4a54-4d74-926d-98ef11c6bc18
DTSTAMP:20260423T143607Z
SUMMARY:Geburtstagsfeier
DTSTART;TZID=Europe/Berlin:20260314T080000
DTEND;TZID=Europe/Berlin:20260314T220000
LOCATION:Pfarrheim EG Großer Gruppenraum\, Schulstraße 12\, 86492 Egling 
 an der Paar
END:VEVENT
END:VCALENDAR
