BEGIN:VCALENDAR
VERSION:2.0
PRODID:-//Sabre//Sabre VObject 4.5.8//EN
CALSCALE:GREGORIAN
NAME:PG Egling
X-WR-CALNAME:PG Egling
BEGIN:VEVENT
UID:sabre-vobject-985cdc0b-ca44-4464-9f7a-5d063b5d505d
DTSTAMP:20260423T155342Z
SUMMARY:Gymnastik Frau Reum
DTSTART;TZID=Europe/Berlin:20260302T090000
DTEND;TZID=Europe/Berlin:20260302T100000
LOCATION:Pfarrheim EG Großer Gruppenraum\, Schulstraße 12\, 86492 Egling 
 an der Paar
END:VEVENT
BEGIN:VEVENT
UID:sabre-vobject-c0038c0b-c175-437c-9f14-c71eb92d1704
DTSTAMP:20260423T155342Z
SUMMARY:Mutter Kind Gruppe ( Wörle )
DTSTART;TZID=Europe/Berlin:20260304T083000
DTEND;TZID=Europe/Berlin:20260304T110000
LOCATION:Pfarrheim EG Großer Gruppenraum\, Schulstraße 12\, 86492 Egling 
 an der Paar
END:VEVENT
BEGIN:VEVENT
UID:sabre-vobject-c725b5ea-6198-41c7-b783-2e85e908a2c9
DTSTAMP:20260423T155342Z
SUMMARY:Mutter Kind Gruppe ( Wild )
DTSTART;TZID=Europe/Berlin:20260305T083000
DTEND;TZID=Europe/Berlin:20260305T110000
LOCATION:Pfarrheim EG Großer Gruppenraum\, Schulstraße 12\, 86492 Egling 
 an der Paar
END:VEVENT
BEGIN:VEVENT
UID:sabre-vobject-979da3fd-8f05-4d68-b5e3-79d28da4d693
DTSTAMP:20260423T155342Z
SUMMARY:Mädchen Singgruppe
DTSTART;TZID=Europe/Berlin:20260306T163000
DTEND;TZID=Europe/Berlin:20260306T183000
LOCATION:Pfarrheim EG Großer Gruppenraum\, Schulstraße 12\, 86492 Egling 
 an der Paar
END:VEVENT
BEGIN:VEVENT
UID:sabre-vobject-6fe54d10-136a-4b01-85f2-0db2f0056f42
DTSTAMP:20260423T155342Z
SUMMARY:Frühstück Kommunionkinder
DTSTART;TZID=Europe/Berlin:20260307T063000
DTEND;TZID=Europe/Berlin:20260307T093000
LOCATION:Pfarrheim EG Großer Gruppenraum\, Schulstraße 12\, 86492 Egling 
 an der Paar
END:VEVENT
END:VCALENDAR
