BEGIN:VCALENDAR
VERSION:2.0
PRODID:-//Sabre//Sabre VObject 4.5.8//EN
CALSCALE:GREGORIAN
NAME:PG Egling
X-WR-CALNAME:PG Egling
BEGIN:VEVENT
UID:sabre-vobject-f6a8cc80-b713-45e4-932b-0315c15ba164
DTSTAMP:20260424T011709Z
SUMMARY:Mutter Kind Gruppe ( Wörle )
DTSTART;TZID=Europe/Berlin:20251001T083000
DTEND;TZID=Europe/Berlin:20251001T110000
LOCATION:Pfarrheim EG Großer Gruppenraum\, Schulstraße 12\, 86492 Egling 
 an der Paar
END:VEVENT
BEGIN:VEVENT
UID:sabre-vobject-df7947c7-8025-48fb-8a22-18838ac08e59
DTSTAMP:20260424T011709Z
SUMMARY:Mutter Kind Gruppe ( Wild )
DTSTART;TZID=Europe/Berlin:20251002T083000
DTEND;TZID=Europe/Berlin:20251002T110000
LOCATION:Pfarrheim EG Großer Gruppenraum\, Schulstraße 12\, 86492 Egling 
 an der Paar
END:VEVENT
BEGIN:VEVENT
UID:sabre-vobject-84f9e0fc-4d8a-4ad7-bf44-274b0567fb30
DTSTAMP:20260424T011709Z
SUMMARY:Mädchen Singgruppe
DTSTART;TZID=Europe/Berlin:20251003T163000
DTEND;TZID=Europe/Berlin:20251003T183000
LOCATION:Pfarrheim EG Großer Gruppenraum\, Schulstraße 12\, 86492 Egling 
 an der Paar
END:VEVENT
BEGIN:VEVENT
UID:sabre-vobject-aa001e27-bafb-4883-8ac0-4da63dd07f45
DTSTAMP:20260424T011709Z
SUMMARY:Gymnastik Frau Reum
DTSTART;TZID=Europe/Berlin:20251006T090000
DTEND;TZID=Europe/Berlin:20251006T100000
LOCATION:Pfarrheim EG Großer Gruppenraum\, Schulstraße 12\, 86492 Egling 
 an der Paar
END:VEVENT
BEGIN:VEVENT
UID:sabre-vobject-63782a32-2ada-422c-ae29-c4acb1ec4400
DTSTAMP:20260424T011709Z
SUMMARY:Mutter Kind Gruppe ( Wörle )
DTSTART;TZID=Europe/Berlin:20251008T083000
DTEND;TZID=Europe/Berlin:20251008T110000
LOCATION:Pfarrheim EG Großer Gruppenraum\, Schulstraße 12\, 86492 Egling 
 an der Paar
END:VEVENT
BEGIN:VEVENT
UID:sabre-vobject-3a843bf1-366e-43e7-b400-6712a3c2f20e
DTSTAMP:20260424T011709Z
SUMMARY:Mutter Kind Gruppe ( Wild )
DTSTART;TZID=Europe/Berlin:20251009T083000
DTEND;TZID=Europe/Berlin:20251009T110000
LOCATION:Pfarrheim EG Großer Gruppenraum\, Schulstraße 12\, 86492 Egling 
 an der Paar
END:VEVENT
BEGIN:VEVENT
UID:sabre-vobject-fd3fa511-53fc-49e3-b39d-6e3d16e1805f
DTSTAMP:20260424T011709Z
SUMMARY:Mädchen Singgruppe
DTSTART;TZID=Europe/Berlin:20251010T163000
DTEND;TZID=Europe/Berlin:20251010T183000
LOCATION:Pfarrheim EG Großer Gruppenraum\, Schulstraße 12\, 86492 Egling 
 an der Paar
END:VEVENT
BEGIN:VEVENT
UID:sabre-vobject-9a3046b5-7eb8-4bcc-b664-16130b71ec7c
DTSTAMP:20260424T011709Z
SUMMARY:Pfarrverssammlung
DTSTART;TZID=Europe/Berlin:20251012T101500
DTEND;TZID=Europe/Berlin:20251012T141500
LOCATION:Pfarrheim Saal 1. OG\, Schulstraße 12\, 86492 Egling an der Paar
END:VEVENT
BEGIN:VEVENT
UID:sabre-vobject-88324a34-3ecb-47a7-b49c-206010eec23e
DTSTAMP:20260424T011709Z
SUMMARY:Gymnastik Frau Reum
DTSTART;TZID=Europe/Berlin:20251013T090000
DTEND;TZID=Europe/Berlin:20251013T100000
LOCATION:Pfarrheim EG Großer Gruppenraum\, Schulstraße 12\, 86492 Egling 
 an der Paar
END:VEVENT
BEGIN:VEVENT
UID:sabre-vobject-ba97e7b3-0cd4-49be-9c7f-83adb9e54518
DTSTAMP:20260424T011709Z
SUMMARY:Heilige Messe mit anschl. Frühstück
DTSTART;TZID=Europe/Berlin:20251014T080000
DTEND;TZID=Europe/Berlin:20251014T103000
LOCATION:Pfarrheim EG Großer Gruppenraum\, Schulstraße 12\, 86492 Egling 
 an der Paar
END:VEVENT
BEGIN:VEVENT
UID:sabre-vobject-da63b294-0d35-40f8-92c5-2de94c908d6a
DTSTAMP:20260424T011709Z
SUMMARY:Eine Welt Laden JHV
DTSTART;TZID=Europe/Berlin:20251014T180000
DTEND;TZID=Europe/Berlin:20251014T210000
LOCATION:Pfarrheim EG Großer Gruppenraum\, Schulstraße 12\, 86492 Egling 
 an der Paar
END:VEVENT
BEGIN:VEVENT
UID:sabre-vobject-a916b13c-12b2-4d21-95ae-de7d845dd6b2
DTSTAMP:20260424T011709Z
SUMMARY:Mutter Kind Gruppe ( Wörle )
DTSTART;TZID=Europe/Berlin:20251015T083000
DTEND;TZID=Europe/Berlin:20251015T110000
LOCATION:Pfarrheim EG Großer Gruppenraum\, Schulstraße 12\, 86492 Egling 
 an der Paar
END:VEVENT
BEGIN:VEVENT
UID:sabre-vobject-15646479-539e-49ce-970a-6d4c1b58a4f5
DTSTAMP:20260424T011709Z
SUMMARY:Seniorennachmittag
DTSTART;TZID=Europe/Berlin:20251015T103000
DTEND;TZID=Europe/Berlin:20251015T151500
LOCATION:Pfarrheim EG Großer Gruppenraum\, Schulstraße 12\, 86492 Egling 
 an der Paar
END:VEVENT
BEGIN:VEVENT
UID:sabre-vobject-b1ce0b28-4497-46e1-9614-27c0b47aeb08
DTSTAMP:20260424T011709Z
SUMMARY:Mutter Kind Gruppe ( Wild )
DTSTART;TZID=Europe/Berlin:20251016T083000
DTEND;TZID=Europe/Berlin:20251016T110000
LOCATION:Pfarrheim EG Großer Gruppenraum\, Schulstraße 12\, 86492 Egling 
 an der Paar
END:VEVENT
BEGIN:VEVENT
UID:sabre-vobject-dd5244d2-de20-40b6-a9e1-a9386f437cbe
DTSTAMP:20260424T011709Z
SUMMARY:Mädchen Singgruppe
DTSTART;TZID=Europe/Berlin:20251017T163000
DTEND;TZID=Europe/Berlin:20251017T183000
LOCATION:Pfarrheim EG Großer Gruppenraum\, Schulstraße 12\, 86492 Egling 
 an der Paar
END:VEVENT
BEGIN:VEVENT
UID:sabre-vobject-dbdbd9fa-4776-4b26-badd-b80f3220a198
DTSTAMP:20260424T011709Z
SUMMARY:Mütter beten
DTSTART;TZID=Europe/Berlin:20251017T193000
DTEND;TZID=Europe/Berlin:20251017T213000
LOCATION:Pfarrheim EG Großer Gruppenraum\, Schulstraße 12\, 86492 Egling 
 an der Paar
END:VEVENT
BEGIN:VEVENT
UID:sabre-vobject-a1fe4341-c0e1-459a-a453-8e814846fff7
DTSTAMP:20260424T011709Z
SUMMARY:Geburtstagsfeier Hans Fischer
DTSTART;TZID=Europe/Berlin:20251019T140000
DTEND;TZID=Europe/Berlin:20251019T210000
LOCATION:Pfarrheim Küche\, Schulstraße 12\, 86492 Egling an der Paar
END:VEVENT
BEGIN:VEVENT
UID:sabre-vobject-17069c5a-6ffd-48b1-b407-b834dc0483a2
DTSTAMP:20260424T011709Z
SUMMARY:Gymnastik Frau Reum
DTSTART;TZID=Europe/Berlin:20251020T090000
DTEND;TZID=Europe/Berlin:20251020T100000
LOCATION:Pfarrheim EG Großer Gruppenraum\, Schulstraße 12\, 86492 Egling 
 an der Paar
END:VEVENT
BEGIN:VEVENT
UID:sabre-vobject-530be7fa-7912-4486-bd5a-41b313096330
DTSTAMP:20260424T011709Z
SUMMARY:Mutter Kind Gruppe ( Wörle )
DTSTART;TZID=Europe/Berlin:20251022T083000
DTEND;TZID=Europe/Berlin:20251022T110000
LOCATION:Pfarrheim EG Großer Gruppenraum\, Schulstraße 12\, 86492 Egling 
 an der Paar
END:VEVENT
BEGIN:VEVENT
UID:sabre-vobject-432a86a2-02ca-4aeb-a01b-bb98c2dafd81
DTSTAMP:20260424T011709Z
SUMMARY:Mutter Kind Gruppe ( Wild )
DTSTART;TZID=Europe/Berlin:20251023T083000
DTEND;TZID=Europe/Berlin:20251023T110000
LOCATION:Pfarrheim EG Großer Gruppenraum\, Schulstraße 12\, 86492 Egling 
 an der Paar
END:VEVENT
BEGIN:VEVENT
UID:sabre-vobject-a21cd4ba-d957-4d6b-841d-d3d9ab091871
DTSTAMP:20260424T011709Z
SUMMARY:Mädchen Singgruppe
DTSTART;TZID=Europe/Berlin:20251024T163000
DTEND;TZID=Europe/Berlin:20251024T183000
LOCATION:Pfarrheim EG Großer Gruppenraum\, Schulstraße 12\, 86492 Egling 
 an der Paar
END:VEVENT
BEGIN:VEVENT
UID:sabre-vobject-f43dcce5-361e-4a6f-9ca3-0102b3e080b0
DTSTAMP:20260424T011709Z
SUMMARY:Tauferinnerungsfeier Kommunionkinder
DTSTART;TZID=Europe/Berlin:20251025T150000
DTEND;TZID=Europe/Berlin:20251025T163000
LOCATION:Pfarrheim Saal 1. OG\, Schulstraße 12\, 86492 Egling an der Paar
END:VEVENT
BEGIN:VEVENT
UID:sabre-vobject-fa42fc14-eca2-466b-94f4-af93548a813d
DTSTAMP:20260424T011709Z
SUMMARY:Gymnastik Frau Reum
DTSTART;TZID=Europe/Berlin:20251027T090000
DTEND;TZID=Europe/Berlin:20251027T100000
LOCATION:Pfarrheim EG Großer Gruppenraum\, Schulstraße 12\, 86492 Egling 
 an der Paar
END:VEVENT
BEGIN:VEVENT
UID:sabre-vobject-8a933183-fadf-4811-a0e6-41dbbdf4ed6b
DTSTAMP:20260424T011709Z
SUMMARY:Mutter Kind Gruppe ( Wörle )
DTSTART;TZID=Europe/Berlin:20251029T083000
DTEND;TZID=Europe/Berlin:20251029T110000
LOCATION:Pfarrheim EG Großer Gruppenraum\, Schulstraße 12\, 86492 Egling 
 an der Paar
END:VEVENT
BEGIN:VEVENT
UID:sabre-vobject-25de1e4a-bd6c-47bd-a43d-e95bf0e93710
DTSTAMP:20260424T011709Z
SUMMARY:Mutter Kind Gruppe ( Wild )
DTSTART;TZID=Europe/Berlin:20251030T083000
DTEND;TZID=Europe/Berlin:20251030T110000
LOCATION:Pfarrheim EG Großer Gruppenraum\, Schulstraße 12\, 86492 Egling 
 an der Paar
END:VEVENT
BEGIN:VEVENT
UID:sabre-vobject-6af7a9db-720d-4d0b-a93b-b694258aaf4f
DTSTAMP:20260424T011709Z
SUMMARY:Mädchen Singgruppe
DTSTART;TZID=Europe/Berlin:20251031T163000
DTEND;TZID=Europe/Berlin:20251031T183000
LOCATION:Pfarrheim EG Großer Gruppenraum\, Schulstraße 12\, 86492 Egling 
 an der Paar
END:VEVENT
BEGIN:VEVENT
UID:sabre-vobject-fb5fa787-bbb5-4425-baf9-2802473b86df
DTSTAMP:20260424T011709Z
SUMMARY:Pfarrversammlung
DTSTART;TZID=Europe/Berlin:20251012T083000
DTEND;TZID=Europe/Berlin:20251013T123000
LOCATION:Pfarrheim EG Großer Gruppenraum\, Schulstraße 12\, 86492 Egling 
 an der Paar
END:VEVENT
BEGIN:VEVENT
UID:sabre-vobject-46af1f3a-4bf9-4fea-a3fa-2529e997a4af
DTSTAMP:20260424T011709Z
SUMMARY:Pfarrversammlung
DTSTART;TZID=Europe/Berlin:20251012T090000
DTEND;TZID=Europe/Berlin:20251012T120000
LOCATION:Pfarrheim Saal 1. OG\, Schulstraße 12\, 86492 Egling an der Paar
END:VEVENT
BEGIN:VEVENT
UID:sabre-vobject-3179f45c-d6a9-4c8c-a72b-09be257ff62c
DTSTAMP:20260424T011709Z
SUMMARY:Privat Feier Pfarrer Fischer
DTSTART;TZID=Europe/Berlin:20251019T113000
DTEND;TZID=Europe/Berlin:20251019T230000
LOCATION:Pfarrheim Saal 1. OG\, Schulstraße 12\, 86492 Egling an der Paar
END:VEVENT
BEGIN:VEVENT
UID:sabre-vobject-c4918bb1-7700-44f1-9427-8be2b9a5f26f
DTSTAMP:20260424T011709Z
SUMMARY:Private Feier Pfarrer Fischer
DTSTART;TZID=Europe/Berlin:20251019T120000
DTEND;TZID=Europe/Berlin:20251019T220000
LOCATION:Pfarrheim Saal 1. OG\, Schulstraße 12\, 86492 Egling an der Paar
END:VEVENT
BEGIN:VEVENT
UID:sabre-vobject-69fd98e4-7b90-489b-a19b-67f7af8df7b6
DTSTAMP:20260424T011709Z
SUMMARY:Frauenbund Egling Heinrichshofen
DTSTART;TZID=Europe/Berlin:20251028T193000
DTEND;TZID=Europe/Berlin:20251028T210000
LOCATION:Pfarrheim EG Großer Gruppenraum\, Schulstraße 12\, 86492 Egling 
 an der Paar
END:VEVENT
END:VCALENDAR
