BEGIN:VCALENDAR
VERSION:2.0
PRODID:-//Sabre//Sabre VObject 4.5.8//EN
CALSCALE:GREGORIAN
NAME:PG Egling
X-WR-CALNAME:PG Egling
BEGIN:VEVENT
UID:sabre-vobject-021a1bcc-4b6a-4a9d-b0a2-44fae19d9453
DTSTAMP:20260424T055442Z
SUMMARY:Mädchen Singgruppe
DTSTART;TZID=Europe/Berlin:20250801T163000
DTEND;TZID=Europe/Berlin:20250801T183000
LOCATION:Pfarrheim EG Großer Gruppenraum\, Schulstraße 12\, 86492 Egling 
 an der Paar
END:VEVENT
BEGIN:VEVENT
UID:sabre-vobject-e78efe89-92b9-4b59-8671-3845dadeb490
DTSTAMP:20260424T055442Z
SUMMARY:Gymnastik Frau Reum
DTSTART;TZID=Europe/Berlin:20250804T090000
DTEND;TZID=Europe/Berlin:20250804T100000
LOCATION:Pfarrheim EG Großer Gruppenraum\, Schulstraße 12\, 86492 Egling 
 an der Paar
END:VEVENT
BEGIN:VEVENT
UID:sabre-vobject-63489ecd-9d59-4bca-9658-0933caf84ce0
DTSTAMP:20260424T055442Z
SUMMARY:Mutter Kind Gruppe ( Wörle )
DTSTART;TZID=Europe/Berlin:20250806T083000
DTEND;TZID=Europe/Berlin:20250806T110000
LOCATION:Pfarrheim EG Großer Gruppenraum\, Schulstraße 12\, 86492 Egling 
 an der Paar
END:VEVENT
BEGIN:VEVENT
UID:sabre-vobject-5b0a837a-d10c-453c-9bdb-56e900c31dbc
DTSTAMP:20260424T055442Z
SUMMARY:Mutter Kind Gruppe ( Wild )
DTSTART;TZID=Europe/Berlin:20250807T083000
DTEND;TZID=Europe/Berlin:20250807T110000
LOCATION:Pfarrheim EG Großer Gruppenraum\, Schulstraße 12\, 86492 Egling 
 an der Paar
END:VEVENT
BEGIN:VEVENT
UID:sabre-vobject-f5d9f9d3-7705-4bfb-b399-3a3942491dd3
DTSTAMP:20260424T055442Z
SUMMARY:Mädchen Singgruppe
DTSTART;TZID=Europe/Berlin:20250808T163000
DTEND;TZID=Europe/Berlin:20250808T183000
LOCATION:Pfarrheim EG Großer Gruppenraum\, Schulstraße 12\, 86492 Egling 
 an der Paar
END:VEVENT
BEGIN:VEVENT
UID:sabre-vobject-94cc6133-ff7d-4416-8c02-af0512573ee0
DTSTAMP:20260424T055442Z
SUMMARY:Gymnastik Frau Reum
DTSTART;TZID=Europe/Berlin:20250811T090000
DTEND;TZID=Europe/Berlin:20250811T100000
LOCATION:Pfarrheim EG Großer Gruppenraum\, Schulstraße 12\, 86492 Egling 
 an der Paar
END:VEVENT
BEGIN:VEVENT
UID:sabre-vobject-803bd912-4c00-4492-87c8-150990c86dd4
DTSTAMP:20260424T055442Z
SUMMARY:Heilige Messe mit anschl. Frühstück
DTSTART;TZID=Europe/Berlin:20250812T080000
DTEND;TZID=Europe/Berlin:20250812T103000
LOCATION:Pfarrheim EG Großer Gruppenraum\, Schulstraße 12\, 86492 Egling 
 an der Paar
END:VEVENT
BEGIN:VEVENT
UID:sabre-vobject-b0cfcc1c-14a6-4f0a-9c1f-daddc49aa5d1
DTSTAMP:20260424T055442Z
SUMMARY:Mutter Kind Gruppe ( Wörle )
DTSTART;TZID=Europe/Berlin:20250813T083000
DTEND;TZID=Europe/Berlin:20250813T110000
LOCATION:Pfarrheim EG Großer Gruppenraum\, Schulstraße 12\, 86492 Egling 
 an der Paar
END:VEVENT
BEGIN:VEVENT
UID:sabre-vobject-81b61d08-51b1-4b45-8d09-f537a3b841be
DTSTAMP:20260424T055442Z
SUMMARY:Mutter Kind Gruppe ( Wild )
DTSTART;TZID=Europe/Berlin:20250814T083000
DTEND;TZID=Europe/Berlin:20250814T110000
LOCATION:Pfarrheim EG Großer Gruppenraum\, Schulstraße 12\, 86492 Egling 
 an der Paar
END:VEVENT
BEGIN:VEVENT
UID:sabre-vobject-510caf48-48d7-49c9-873a-404fd6bd9e48
DTSTAMP:20260424T055442Z
SUMMARY:Mädchen Singgruppe
DTSTART;TZID=Europe/Berlin:20250815T163000
DTEND;TZID=Europe/Berlin:20250815T183000
LOCATION:Pfarrheim EG Großer Gruppenraum\, Schulstraße 12\, 86492 Egling 
 an der Paar
END:VEVENT
BEGIN:VEVENT
UID:sabre-vobject-1798120b-da3e-4bf1-98c6-96a0ee580384
DTSTAMP:20260424T055442Z
SUMMARY:Gymnastik Frau Reum
DTSTART;TZID=Europe/Berlin:20250818T090000
DTEND;TZID=Europe/Berlin:20250818T100000
LOCATION:Pfarrheim EG Großer Gruppenraum\, Schulstraße 12\, 86492 Egling 
 an der Paar
END:VEVENT
BEGIN:VEVENT
UID:sabre-vobject-0e98de8d-33df-4e4f-abb5-bfc8ab363927
DTSTAMP:20260424T055442Z
SUMMARY:Mutter Kind Gruppe ( Wörle )
DTSTART;TZID=Europe/Berlin:20250820T083000
DTEND;TZID=Europe/Berlin:20250820T110000
LOCATION:Pfarrheim EG Großer Gruppenraum\, Schulstraße 12\, 86492 Egling 
 an der Paar
END:VEVENT
BEGIN:VEVENT
UID:sabre-vobject-f37e7105-3c9f-4a64-a623-5752b6ff56ae
DTSTAMP:20260424T055442Z
SUMMARY:Mutter Kind Gruppe ( Wild )
DTSTART;TZID=Europe/Berlin:20250821T083000
DTEND;TZID=Europe/Berlin:20250821T110000
LOCATION:Pfarrheim EG Großer Gruppenraum\, Schulstraße 12\, 86492 Egling 
 an der Paar
END:VEVENT
BEGIN:VEVENT
UID:sabre-vobject-51b1ed2d-b189-4d88-847e-585cab03e1bf
DTSTAMP:20260424T055442Z
SUMMARY:Mädchen Singgruppe
DTSTART;TZID=Europe/Berlin:20250822T163000
DTEND;TZID=Europe/Berlin:20250822T183000
LOCATION:Pfarrheim EG Großer Gruppenraum\, Schulstraße 12\, 86492 Egling 
 an der Paar
END:VEVENT
BEGIN:VEVENT
UID:sabre-vobject-6025f1fb-baa7-4a93-9b1c-4fbf88aab67d
DTSTAMP:20260424T055442Z
SUMMARY:Gymnastik Frau Reum
DTSTART;TZID=Europe/Berlin:20250825T090000
DTEND;TZID=Europe/Berlin:20250825T100000
LOCATION:Pfarrheim EG Großer Gruppenraum\, Schulstraße 12\, 86492 Egling 
 an der Paar
END:VEVENT
BEGIN:VEVENT
UID:sabre-vobject-46dcaa5b-a22c-441e-bfd3-e920f74e0b11
DTSTAMP:20260424T055442Z
SUMMARY:Mutter Kind Gruppe ( Wörle )
DTSTART;TZID=Europe/Berlin:20250827T083000
DTEND;TZID=Europe/Berlin:20250827T110000
LOCATION:Pfarrheim EG Großer Gruppenraum\, Schulstraße 12\, 86492 Egling 
 an der Paar
END:VEVENT
BEGIN:VEVENT
UID:sabre-vobject-9f4c6c1c-342d-4a29-ba9e-819a63125c1b
DTSTAMP:20260424T055442Z
SUMMARY:Mutter Kind Gruppe ( Wild )
DTSTART;TZID=Europe/Berlin:20250828T083000
DTEND;TZID=Europe/Berlin:20250828T110000
LOCATION:Pfarrheim EG Großer Gruppenraum\, Schulstraße 12\, 86492 Egling 
 an der Paar
END:VEVENT
BEGIN:VEVENT
UID:sabre-vobject-c428ede7-9a74-4001-b52a-3389b85643d8
DTSTAMP:20260424T055442Z
SUMMARY:Mädchen Singgruppe
DTSTART;TZID=Europe/Berlin:20250829T163000
DTEND;TZID=Europe/Berlin:20250829T183000
LOCATION:Pfarrheim EG Großer Gruppenraum\, Schulstraße 12\, 86492 Egling 
 an der Paar
END:VEVENT
BEGIN:VEVENT
UID:sabre-vobject-bc5a72fe-19ce-4d1b-9a52-b3817f6fb85c
DTSTAMP:20260424T055442Z
SUMMARY:Test
DTSTART;TZID=Europe/Berlin:20250821T090000
DTEND;TZID=Europe/Berlin:20250822T090000
LOCATION:Pfarrheim Saal 1. OG\, Schulstraße 12\, 86492 Egling an der Paar
END:VEVENT
END:VCALENDAR
