BEGIN:VCALENDAR
VERSION:2.0
PRODID:-//Sabre//Sabre VObject 4.5.8//EN
CALSCALE:GREGORIAN
NAME:PG Egling
X-WR-CALNAME:PG Egling
BEGIN:VEVENT
UID:sabre-vobject-92e65629-6d60-486d-8b61-ee015c265d38
DTSTAMP:20260425T105120Z
SUMMARY:Gymnastik Frau Reum
DTSTART;TZID=Europe/Berlin:20260202T090000
DTEND;TZID=Europe/Berlin:20260202T100000
LOCATION:Pfarrheim EG Großer Gruppenraum\, Schulstraße 12\, 86492 Egling 
 an der Paar
END:VEVENT
BEGIN:VEVENT
UID:sabre-vobject-89bf6455-2945-4f40-9a3f-6b0257b0ce29
DTSTAMP:20260425T105120Z
SUMMARY:Mutter Kind Gruppe ( Wörle )
DTSTART;TZID=Europe/Berlin:20260204T083000
DTEND;TZID=Europe/Berlin:20260204T110000
LOCATION:Pfarrheim EG Großer Gruppenraum\, Schulstraße 12\, 86492 Egling 
 an der Paar
END:VEVENT
BEGIN:VEVENT
UID:sabre-vobject-6d418f2c-8069-49ad-b7ba-ac61fbeeda97
DTSTAMP:20260425T105120Z
SUMMARY:Mutter Kind Gruppe ( Wild )
DTSTART;TZID=Europe/Berlin:20260205T083000
DTEND;TZID=Europe/Berlin:20260205T110000
LOCATION:Pfarrheim EG Großer Gruppenraum\, Schulstraße 12\, 86492 Egling 
 an der Paar
END:VEVENT
BEGIN:VEVENT
UID:sabre-vobject-1388a005-3c96-4605-9f74-88da80279537
DTSTAMP:20260425T105120Z
SUMMARY:Mädchen Singgruppe
DTSTART;TZID=Europe/Berlin:20260206T163000
DTEND;TZID=Europe/Berlin:20260206T183000
LOCATION:Pfarrheim EG Großer Gruppenraum\, Schulstraße 12\, 86492 Egling 
 an der Paar
END:VEVENT
BEGIN:VEVENT
UID:sabre-vobject-188e5169-8ddd-4620-9681-81db002df6c0
DTSTAMP:20260425T105120Z
SUMMARY:Meditativer Tanz
DTSTART;TZID=Europe/Berlin:20260207T133000
DTEND;TZID=Europe/Berlin:20260207T163000
LOCATION:Pfarrheim Saal 1. OG\, Schulstraße 12\, 86492 Egling an der Paar
END:VEVENT
BEGIN:VEVENT
UID:sabre-vobject-a88e9a19-87b3-4f33-aa7d-89392bcd12fb
DTSTAMP:20260425T105120Z
SUMMARY:Gymnastik Frau Reum
DTSTART;TZID=Europe/Berlin:20260209T090000
DTEND;TZID=Europe/Berlin:20260209T100000
LOCATION:Pfarrheim EG Großer Gruppenraum\, Schulstraße 12\, 86492 Egling 
 an der Paar
END:VEVENT
BEGIN:VEVENT
UID:sabre-vobject-2b5ac69d-fe08-41d2-b909-d3eac768ac14
DTSTAMP:20260425T105120Z
SUMMARY:Heilige Messe mit anschl. Frühstück
DTSTART;TZID=Europe/Berlin:20260210T080000
DTEND;TZID=Europe/Berlin:20260210T103000
LOCATION:Pfarrheim EG Großer Gruppenraum\, Schulstraße 12\, 86492 Egling 
 an der Paar
END:VEVENT
BEGIN:VEVENT
UID:sabre-vobject-228262fd-36c1-4210-9f0a-24b95b4e0c1a
DTSTAMP:20260425T105120Z
SUMMARY:Mutter Kind Gruppe ( Wörle )
DTSTART;TZID=Europe/Berlin:20260211T083000
DTEND;TZID=Europe/Berlin:20260211T110000
LOCATION:Pfarrheim EG Großer Gruppenraum\, Schulstraße 12\, 86492 Egling 
 an der Paar
END:VEVENT
BEGIN:VEVENT
UID:sabre-vobject-e3e53ae7-1b0e-485e-bafa-25707b7eefe3
DTSTAMP:20260425T105120Z
SUMMARY:Seniorennachmittag
DTSTART;TZID=Europe/Berlin:20260211T123000
DTEND;TZID=Europe/Berlin:20260211T173000
LOCATION:Pfarrheim EG Großer Gruppenraum\, Schulstraße 12\, 86492 Egling 
 an der Paar
END:VEVENT
BEGIN:VEVENT
UID:sabre-vobject-1ec06173-0039-4ab3-b6b5-7a6dacbf27ce
DTSTAMP:20260425T105120Z
SUMMARY:Mutter Kind Gruppe ( Wild )
DTSTART;TZID=Europe/Berlin:20260212T083000
DTEND;TZID=Europe/Berlin:20260212T110000
LOCATION:Pfarrheim EG Großer Gruppenraum\, Schulstraße 12\, 86492 Egling 
 an der Paar
END:VEVENT
BEGIN:VEVENT
UID:sabre-vobject-144978ca-792d-459d-a359-7bec81931b6c
DTSTAMP:20260425T105120Z
SUMMARY:Mädchen Singgruppe
DTSTART;TZID=Europe/Berlin:20260213T163000
DTEND;TZID=Europe/Berlin:20260213T183000
LOCATION:Pfarrheim EG Großer Gruppenraum\, Schulstraße 12\, 86492 Egling 
 an der Paar
END:VEVENT
BEGIN:VEVENT
UID:sabre-vobject-0c256ef7-1516-47c2-bb00-facb753a7558
DTSTAMP:20260425T105120Z
SUMMARY:Gymnastik Frau Reum
DTSTART;TZID=Europe/Berlin:20260216T090000
DTEND;TZID=Europe/Berlin:20260216T100000
LOCATION:Pfarrheim EG Großer Gruppenraum\, Schulstraße 12\, 86492 Egling 
 an der Paar
END:VEVENT
BEGIN:VEVENT
UID:sabre-vobject-480a257d-3c5d-441c-8b30-ba96a57f56d2
DTSTAMP:20260425T105120Z
SUMMARY:Mutter Kind Gruppe ( Wörle )
DTSTART;TZID=Europe/Berlin:20260218T083000
DTEND;TZID=Europe/Berlin:20260218T110000
LOCATION:Pfarrheim EG Großer Gruppenraum\, Schulstraße 12\, 86492 Egling 
 an der Paar
END:VEVENT
BEGIN:VEVENT
UID:sabre-vobject-0274df1a-5c42-4200-ab73-af1a6d97719b
DTSTAMP:20260425T105120Z
SUMMARY:Mutter Kind Gruppe ( Wild )
DTSTART;TZID=Europe/Berlin:20260219T083000
DTEND;TZID=Europe/Berlin:20260219T110000
LOCATION:Pfarrheim EG Großer Gruppenraum\, Schulstraße 12\, 86492 Egling 
 an der Paar
END:VEVENT
BEGIN:VEVENT
UID:sabre-vobject-47b99366-111e-4907-931f-5e486f3b53c1
DTSTAMP:20260425T105120Z
SUMMARY:Mädchen Singgruppe
DTSTART;TZID=Europe/Berlin:20260220T163000
DTEND;TZID=Europe/Berlin:20260220T183000
LOCATION:Pfarrheim EG Großer Gruppenraum\, Schulstraße 12\, 86492 Egling 
 an der Paar
END:VEVENT
BEGIN:VEVENT
UID:sabre-vobject-f6afea44-68fc-4443-bfbf-7be64cdba156
DTSTAMP:20260425T105120Z
SUMMARY:Mütter beten
DTSTART;TZID=Europe/Berlin:20260220T193000
DTEND;TZID=Europe/Berlin:20260220T213000
LOCATION:Pfarrheim EG Großer Gruppenraum\, Schulstraße 12\, 86492 Egling 
 an der Paar
END:VEVENT
BEGIN:VEVENT
UID:sabre-vobject-f7370e28-0a15-4df2-baa3-2d49701b9805
DTSTAMP:20260425T105120Z
SUMMARY:Gymnastik Frau Reum
DTSTART;TZID=Europe/Berlin:20260223T090000
DTEND;TZID=Europe/Berlin:20260223T100000
LOCATION:Pfarrheim EG Großer Gruppenraum\, Schulstraße 12\, 86492 Egling 
 an der Paar
END:VEVENT
BEGIN:VEVENT
UID:sabre-vobject-bcd8bf35-2ee2-41e3-ab05-889f3ddd9a14
DTSTAMP:20260425T105120Z
SUMMARY:Mutter Kind Gruppe ( Wörle )
DTSTART;TZID=Europe/Berlin:20260225T083000
DTEND;TZID=Europe/Berlin:20260225T110000
LOCATION:Pfarrheim EG Großer Gruppenraum\, Schulstraße 12\, 86492 Egling 
 an der Paar
END:VEVENT
BEGIN:VEVENT
UID:sabre-vobject-9a9ae7ce-a71e-4d67-ac1a-0fb9a0154c4e
DTSTAMP:20260425T105120Z
SUMMARY:Mutter Kind Gruppe ( Wild )
DTSTART;TZID=Europe/Berlin:20260226T083000
DTEND;TZID=Europe/Berlin:20260226T110000
LOCATION:Pfarrheim EG Großer Gruppenraum\, Schulstraße 12\, 86492 Egling 
 an der Paar
END:VEVENT
BEGIN:VEVENT
UID:sabre-vobject-037d3599-b659-41c1-8619-4a50124a9f40
DTSTAMP:20260425T105120Z
SUMMARY:PGR Sitzung
DTSTART;TZID=Europe/Berlin:20260226T193000
DTEND;TZID=Europe/Berlin:20260226T213000
LOCATION:Pfarrheim EG Großer Gruppenraum\, Schulstraße 12\, 86492 Egling 
 an der Paar
END:VEVENT
BEGIN:VEVENT
UID:sabre-vobject-d3737e47-69cc-4abc-8768-98e2dacb9410
DTSTAMP:20260425T105120Z
SUMMARY:Mädchen Singgruppe
DTSTART;TZID=Europe/Berlin:20260227T163000
DTEND;TZID=Europe/Berlin:20260227T183000
LOCATION:Pfarrheim EG Großer Gruppenraum\, Schulstraße 12\, 86492 Egling 
 an der Paar
END:VEVENT
BEGIN:VEVENT
UID:sabre-vobject-e8f4c7db-0dff-4518-9abc-8a8ae3d7c8cd
DTSTAMP:20260425T105120Z
SUMMARY:Kindergottesdienst
DTSTART;TZID=Europe/Berlin:20260201T090000
DTEND;TZID=Europe/Berlin:20260201T110000
LOCATION:Pfarrheim Saal 1. OG\, Schulstraße 12\, 86492 Egling an der Paar
END:VEVENT
END:VCALENDAR
