BEGIN:VCALENDAR
VERSION:2.0
PRODID:-//Sabre//Sabre VObject 4.5.8//EN
CALSCALE:GREGORIAN
NAME:PG Egling
X-WR-CALNAME:PG Egling
BEGIN:VEVENT
UID:sabre-vobject-41359a82-3d65-4b24-9a0a-d0aa794ec072
DTSTAMP:20260425T175903Z
SUMMARY:Sonntagsgottesdienst
DESCRIPTION:https://pg-egling.de/sonntagsgottesdienst_id44371
DTSTART;TZID=Europe/Berlin:20260426T083000
DURATION:PT30M
LOCATION:Pfarrkirche St. Peter und Paul Winkl\, Lindenstraße 2\, 86931 Win
 kl
END:VEVENT
BEGIN:VEVENT
UID:sabre-vobject-c5a87183-6bfe-4ddf-948c-760707722511
DTSTAMP:20260425T175903Z
SUMMARY:Sonntagsgottesdienst (Gedenken an die Ankunft der Erdberger in Egli
 ng vor 80 Jahren)
DESCRIPTION:https://pg-egling.de/sonntagsgottesdienst-gedenken-an-die-ankun
 ft-der-erdberger-in-egling-vor-80-jahren_id44350
DTSTART;TZID=Europe/Berlin:20260426T093000
DURATION:PT30M
LOCATION:Pfarrkirche St. Vitus Egling\, Schulstraße 2\, 86492 Egling
END:VEVENT
BEGIN:VEVENT
UID:sabre-vobject-9a76d216-a020-479f-98e9-11baa42b61ea
DTSTAMP:20260425T175903Z
SUMMARY:ERSTKOMMUNION
DESCRIPTION:https://pg-egling.de/erstkommunion_id44357
DTSTART;TZID=Europe/Berlin:20260426T100000
DURATION:PT30M
LOCATION:Pfarrkirche St. Peter und Paul Prittriching\, Kirchbergstraße 5\,
  86931 Prittriching
END:VEVENT
BEGIN:VEVENT
UID:sabre-vobject-26c6622a-41f8-4755-9d16-375d5b5c7a86
DTSTAMP:20260425T175903Z
SUMMARY:Sonntagsgottesdienst
DESCRIPTION:https://pg-egling.de/sonntagsgottesdienst_id44344
DTSTART;TZID=Europe/Berlin:20260426T104500
DURATION:PT30M
LOCATION:Pfarrkirche St. Nikolaus Dünzelbach\, Dünzelbach 87\, 82272 Dün
 zelbach
END:VEVENT
BEGIN:VEVENT
UID:sabre-vobject-b12f3f1e-c93d-4f34-9498-eb45da6dd9be
DTSTAMP:20260425T175903Z
SUMMARY:Kommunionausflug
DESCRIPTION:https://pg-egling.de/kommunionausflug_id44358
DTSTART;TZID=Europe/Berlin:20260427T080000
DURATION:PT30M
LOCATION:Pfarrkirche St. Peter und Paul Prittriching\, Kirchbergstraße 5\,
  86931 Prittriching
END:VEVENT
BEGIN:VEVENT
UID:sabre-vobject-fe048a3f-cafb-49ce-9bb6-5653010838f1
DTSTAMP:20260425T175903Z
SUMMARY:Aktivierungs-u. Entspannungsgymnastik
DESCRIPTION:https://pg-egling.de/aktivierungs-u-entspannungsgymnastik_id443
 53
DTSTART;TZID=Europe/Berlin:20260427T090000
DURATION:PT30M
LOCATION:Pfarrheim Egling\, Schulstraße 12\, 86492 Egling an der Paar
END:VEVENT
BEGIN:VEVENT
UID:sabre-vobject-7e0fec24-c1df-41a5-93f7-b6eb312c5383
DTSTAMP:20260425T175903Z
SUMMARY:Abendmesse
DESCRIPTION:https://pg-egling.de/abendmesse_id44352
DTSTART;TZID=Europe/Berlin:20260427T190000
DURATION:PT30M
LOCATION:Filialkirche St. Andreas Heinrichshofen\, Dorfstraße 5\, 86492 He
 inrichshofen
END:VEVENT
BEGIN:VEVENT
UID:sabre-vobject-d8c8fe72-e27f-4b59-835e-9deadc949e80
DTSTAMP:20260425T175903Z
SUMMARY:Rosenkranz
DESCRIPTION:https://pg-egling.de/rosenkranz_id44359
DTSTART;TZID=Europe/Berlin:20260428T183000
DURATION:PT30M
LOCATION:Filialkirche Unsere Liebe Frau Prittriching\, Eglinger Str. 5\, 86
 931 Prittriching
END:VEVENT
BEGIN:VEVENT
UID:sabre-vobject-9042687b-a26c-4ec6-a269-f0c214b51324
DTSTAMP:20260425T175903Z
SUMMARY:Abendmesse
DESCRIPTION:https://pg-egling.de/abendmesse_id44360
DTSTART;TZID=Europe/Berlin:20260428T190000
DURATION:PT30M
LOCATION:Filialkirche Unsere Liebe Frau Prittriching\, Eglinger Str. 5\, 86
 931 Prittriching
END:VEVENT
BEGIN:VEVENT
UID:sabre-vobject-54f29f56-2c7a-491c-b6b8-ac17eb986588
DTSTAMP:20260425T175903Z
SUMMARY:Requiem für Frau Maria  Ruch\, anschl. Urnenbestattung
DESCRIPTION:https://pg-egling.de/requiem-fuer-frau-maria-ruch-anschl-urnenb
 estattung_id44346
DTSTART;TZID=Europe/Berlin:20260429T143000
DURATION:PT30M
LOCATION:Pfarrkirche St. Nikolaus Dünzelbach\, Dünzelbach 87\, 82272 Dün
 zelbach
END:VEVENT
BEGIN:VEVENT
UID:sabre-vobject-3d70df44-0958-4bee-8155-8ca1ac8ef5f8
DTSTAMP:20260425T175903Z
SUMMARY:Rosenkranz
DESCRIPTION:https://pg-egling.de/rosenkranz_id44368
DTSTART;TZID=Europe/Berlin:20260429T183000
DURATION:PT30M
LOCATION:Filialkirche St. Johann Baptist Scheuring\, Burgselstraße 3\, 869
 37 Scheuring
END:VEVENT
BEGIN:VEVENT
UID:sabre-vobject-79b25f67-1521-48ce-b7a7-241bbf5b9f75
DTSTAMP:20260425T175903Z
SUMMARY:Abendmesse
DESCRIPTION:https://pg-egling.de/abendmesse_id44343
DTSTART;TZID=Europe/Berlin:20260429T190000
DURATION:PT30M
LOCATION:Filialkirche St. Johann Baptist Scheuring\, Burgselstraße 3\, 869
 37 Scheuring
END:VEVENT
BEGIN:VEVENT
UID:sabre-vobject-e72512f4-37e7-467a-a3cb-54db7d185b22
DTSTAMP:20260425T175903Z
SUMMARY:Kommunionprobe
DESCRIPTION:https://pg-egling.de/kommunionprobe_id44345
DTSTART;TZID=Europe/Berlin:20260430T170000
DURATION:PT30M
LOCATION:Pfarrkirche St. Nikolaus Dünzelbach\, Dünzelbach 87\, 82272 Dün
 zelbach
END:VEVENT
BEGIN:VEVENT
UID:sabre-vobject-22975d77-4724-48db-8528-4b8d4bb0a1ce
DTSTAMP:20260425T175903Z
SUMMARY:Rosenkranz
DESCRIPTION:https://pg-egling.de/rosenkranz_id44361
DTSTART;TZID=Europe/Berlin:20260430T183000
DURATION:PT30M
LOCATION:Filialkirche Unsere Liebe Frau Prittriching\, Eglinger Str. 5\, 86
 931 Prittriching
END:VEVENT
BEGIN:VEVENT
UID:sabre-vobject-de603f73-dc97-40ca-9cbc-6295dd009ad8
DTSTAMP:20260425T175903Z
SUMMARY:Maiandacht
DESCRIPTION:https://pg-egling.de/maiandacht_id44354
DTSTART;TZID=Europe/Berlin:20260501T180000
DURATION:PT30M
LOCATION:Pfarrkirche St. Vitus Egling\, Schulstraße 2\, 86492 Egling
END:VEVENT
BEGIN:VEVENT
UID:sabre-vobject-dc2cf721-87d4-439a-8ae8-3b59c1f9e7bc
DTSTAMP:20260425T175903Z
SUMMARY:Maiandacht
DESCRIPTION:https://pg-egling.de/maiandacht_id44363
DTSTART;TZID=Europe/Berlin:20260501T180000
DURATION:PT30M
LOCATION:Filialkirche Unsere Liebe Frau Prittriching\, Eglinger Str. 5\, 86
 931 Prittriching
END:VEVENT
BEGIN:VEVENT
UID:sabre-vobject-f910e642-6867-4e88-82d2-43fd495e5489
DTSTAMP:20260425T175903Z
SUMMARY:Rosenkranz
DESCRIPTION:https://pg-egling.de/rosenkranz_id44364
DTSTART;TZID=Europe/Berlin:20260502T173000
DURATION:PT30M
LOCATION:Filialkirche Unsere Liebe Frau Prittriching\, Eglinger Str. 5\, 86
 931 Prittriching
END:VEVENT
BEGIN:VEVENT
UID:sabre-vobject-0907df0e-b3da-4ff7-86d7-742ba4f3b39e
DTSTAMP:20260425T175903Z
SUMMARY:Vorabendmesse
DESCRIPTION:https://pg-egling.de/vorabendmesse_id44362
DTSTART;TZID=Europe/Berlin:20260502T180000
DURATION:PT30M
LOCATION:Filialkirche Unsere Liebe Frau Prittriching\, Eglinger Str. 5\, 86
 931 Prittriching
END:VEVENT
BEGIN:VEVENT
UID:sabre-vobject-fe4005cc-c9ad-4739-852f-fd87cbaf7bea
DTSTAMP:20260425T175903Z
SUMMARY:Sonntagsgottesdienst
DESCRIPTION:https://pg-egling.de/sonntagsgottesdienst_id44372
DTSTART;TZID=Europe/Berlin:20260503T083000
DURATION:PT30M
LOCATION:Pfarrkirche St. Peter und Paul Winkl\, Lindenstraße 2\, 86931 Win
 kl
END:VEVENT
BEGIN:VEVENT
UID:sabre-vobject-0fbf8c1f-1b34-4458-88f4-127ea5aad90e
DTSTAMP:20260425T175903Z
SUMMARY:Sonntagsgottesdienst
DESCRIPTION:https://pg-egling.de/sonntagsgottesdienst_id44355
DTSTART;TZID=Europe/Berlin:20260503T093000
DURATION:PT30M
LOCATION:Pfarrkirche St. Vitus Egling\, Schulstraße 2\, 86492 Egling
END:VEVENT
BEGIN:VEVENT
UID:sabre-vobject-820331c0-5d0e-41e0-9a26-e936d5b27d99
DTSTAMP:20260425T175903Z
SUMMARY:WORT-GOTTES-FEIER mit Kommunionempfang
DESCRIPTION:https://pg-egling.de/wort-gottes-feier-mit-kommunionempfang_id4
 4369
DTSTART;TZID=Europe/Berlin:20260503T093000
DURATION:PT30M
LOCATION:Pfarrkirche St. Martin Scheuring\, Kirchplatz 5\, 86937 Scheuring
END:VEVENT
BEGIN:VEVENT
UID:sabre-vobject-6566f93c-7c3b-4060-961d-b2b8276da25c
DTSTAMP:20260425T175903Z
SUMMARY:ERSTKOMMUNION
DESCRIPTION:https://pg-egling.de/erstkommunion_id44347
DTSTART;TZID=Europe/Berlin:20260503T100000
DURATION:PT30M
LOCATION:Pfarrkirche St. Nikolaus Dünzelbach\, Dünzelbach 87\, 82272 Dün
 zelbach
END:VEVENT
BEGIN:VEVENT
UID:sabre-vobject-70f2b8fa-9b41-4e85-a8b0-f2ffb6987331
DTSTAMP:20260425T175903Z
SUMMARY:Maiandacht
DESCRIPTION:https://pg-egling.de/maiandacht_id44349
DTSTART;TZID=Europe/Berlin:20260503T180000
DURATION:PT30M
LOCATION:Pfarrkirche St. Nikolaus Dünzelbach\, Dünzelbach 87\, 82272 Dün
 zelbach
END:VEVENT
BEGIN:VEVENT
UID:sabre-vobject-440f815a-8d3f-44c4-b263-d21851a24faa
DTSTAMP:20260425T175903Z
SUMMARY:Kindermaiandacht
DESCRIPTION:https://pg-egling.de/kindermaiandacht_id44356
DTSTART;TZID=Europe/Berlin:20260503T180000
DURATION:PT30M
LOCATION:Pfarrkirche St. Vitus Egling\, Schulstraße 2\, 86492 Egling
END:VEVENT
BEGIN:VEVENT
UID:sabre-vobject-a7f97328-3b3f-4c9e-9d2a-a3d65b4d62f4
DTSTAMP:20260425T175903Z
SUMMARY:Maiandacht an der Grotte
DESCRIPTION:https://pg-egling.de/maiandacht-an-der-grotte_id44370
DTSTART;TZID=Europe/Berlin:20260503T190000
DURATION:PT30M
LOCATION:Pfarrkirche St. Martin Scheuring\, Kirchplatz 5\, 86937 Scheuring
END:VEVENT
END:VCALENDAR
