BEGIN:VCALENDAR
VERSION:2.0
PRODID:-//Sabre//Sabre VObject 4.5.8//EN
CALSCALE:GREGORIAN
NAME:PG Egling
X-WR-CALNAME:PG Egling
BEGIN:VEVENT
UID:sabre-vobject-a6bc6cef-67cb-44b0-844e-3c56195b07b4
DTSTAMP:20260423T154000Z
SUMMARY:Taufe von Ida Josefa Wolf
DESCRIPTION:https://pg-egling.de/taufe-von-ida-josefa-wolf_id44365
DTSTART;TZID=Europe/Berlin:20260425T133000
DURATION:PT30M
LOCATION:Pfarrkirche St. Nikolaus Dünzelbach\, Dünzelbach 87\, 82272 Dün
 zelbach
END:VEVENT
BEGIN:VEVENT
UID:sabre-vobject-de2c4de4-ada5-4573-9fb1-cbbe4c7fc27a
DTSTAMP:20260423T154000Z
SUMMARY:Sonntagsgottesdienst
DESCRIPTION:https://pg-egling.de/sonntagsgottesdienst_id44344
DTSTART;TZID=Europe/Berlin:20260426T104500
DURATION:PT30M
LOCATION:Pfarrkirche St. Nikolaus Dünzelbach\, Dünzelbach 87\, 82272 Dün
 zelbach
END:VEVENT
BEGIN:VEVENT
UID:sabre-vobject-765cf227-b31a-49b7-aea2-ef78f84a7e8e
DTSTAMP:20260423T154000Z
SUMMARY:Requiem für Frau Maria  Ruch\, anschl. Urnenbestattung
DESCRIPTION:https://pg-egling.de/requiem-fuer-frau-maria-ruch-anschl-urnenb
 estattung_id44346
DTSTART;TZID=Europe/Berlin:20260429T143000
DURATION:PT30M
LOCATION:Pfarrkirche St. Nikolaus Dünzelbach\, Dünzelbach 87\, 82272 Dün
 zelbach
END:VEVENT
BEGIN:VEVENT
UID:sabre-vobject-9e634034-7b41-404a-a2b5-f919d2d801d8
DTSTAMP:20260423T154000Z
SUMMARY:Kommunionprobe
DESCRIPTION:https://pg-egling.de/kommunionprobe_id44345
DTSTART;TZID=Europe/Berlin:20260430T170000
DURATION:PT30M
LOCATION:Pfarrkirche St. Nikolaus Dünzelbach\, Dünzelbach 87\, 82272 Dün
 zelbach
END:VEVENT
BEGIN:VEVENT
UID:sabre-vobject-d7eea62f-535e-4d9e-8ab3-0904c7b02a37
DTSTAMP:20260423T154000Z
SUMMARY:ERSTKOMMUNION
DESCRIPTION:https://pg-egling.de/erstkommunion_id44347
DTSTART;TZID=Europe/Berlin:20260503T100000
DURATION:PT30M
LOCATION:Pfarrkirche St. Nikolaus Dünzelbach\, Dünzelbach 87\, 82272 Dün
 zelbach
END:VEVENT
BEGIN:VEVENT
UID:sabre-vobject-c3a80aa8-6c68-4478-870d-ec356774d7cf
DTSTAMP:20260423T154000Z
SUMMARY:Maiandacht
DESCRIPTION:https://pg-egling.de/maiandacht_id44349
DTSTART;TZID=Europe/Berlin:20260503T180000
DURATION:PT30M
LOCATION:Pfarrkirche St. Nikolaus Dünzelbach\, Dünzelbach 87\, 82272 Dün
 zelbach
END:VEVENT
END:VCALENDAR
