BEGIN:VCALENDAR
VERSION:2.0
PRODID:-//Sabre//Sabre VObject 4.5.8//EN
CALSCALE:GREGORIAN
BEGIN:VEVENT
UID:sabre-vobject-208b579b-63b7-4a37-bbf8-fc219bf14361
DTSTAMP:20260421T172546Z
SUMMARY:Sonntagsgottesdienst
DESCRIPTION:https://pg-egling.de/sonntagsgottesdienst_id44372
DTSTART;TZID=Europe/Berlin:20260503T083000
DURATION:PT30M
LOCATION:Pfarrkirche St. Peter und Paul Winkl\, Lindenstraße 2\, 86931 Win
 kl
END:VEVENT
END:VCALENDAR
