BEGIN:VCALENDAR
VERSION:2.0
PRODID:-//Sabre//Sabre VObject 4.5.8//EN
CALSCALE:GREGORIAN
BEGIN:VEVENT
UID:sabre-vobject-236f5e7b-1ac4-4663-b10e-f8900735fc29
DTSTAMP:20260421T142501Z
SUMMARY:WORT-GOTTES-FEIER mit Kommunionempfang
DESCRIPTION:https://pg-egling.de/wort-gottes-feier-mit-kommunionempfang_id4
 4369
DTSTART;TZID=Europe/Berlin:20260503T093000
DURATION:PT30M
LOCATION:Pfarrkirche St. Martin Scheuring\, Kirchplatz 5\, 86937 Scheuring
END:VEVENT
END:VCALENDAR
