BEGIN:VCALENDAR
VERSION:2.0
PRODID:-//Sabre//Sabre VObject 4.5.8//EN
CALSCALE:GREGORIAN
BEGIN:VEVENT
UID:sabre-vobject-d4a267d8-7143-49ba-8479-c60a5ed9095d
DTSTAMP:20260421T141529Z
SUMMARY:Rosenkranz
DESCRIPTION:https://pg-egling.de/rosenkranz_id44368
DTSTART;TZID=Europe/Berlin:20260429T183000
DURATION:PT30M
LOCATION:Filialkirche St. Johann Baptist Scheuring\, Burgselstraße 3\, 869
 37 Scheuring
END:VEVENT
END:VCALENDAR
