BEGIN:VCALENDAR
VERSION:2.0
PRODID:-//Sabre//Sabre VObject 4.5.8//EN
CALSCALE:GREGORIAN
BEGIN:VEVENT
UID:sabre-vobject-f56e4847-740f-49d5-b079-fbe7581da26f
DTSTAMP:20260421T143549Z
SUMMARY:Vorabendmesse m. Verabschiedung der ausscheidenen PGR-Mitglieder
DESCRIPTION:https://pg-egling.de/vorabendmesse-m-verabschiedung-der-aussche
 idenen-pgr-mitglieder_id44367
DTSTART;TZID=Europe/Berlin:20260425T180000
DURATION:PT30M
LOCATION:Filialkirche St. Johann Baptist Scheuring\, Burgselstraße 3\, 869
 37 Scheuring
END:VEVENT
END:VCALENDAR
