BEGIN:VCALENDAR
VERSION:2.0
PRODID:-//Sabre//Sabre VObject 4.5.8//EN
CALSCALE:GREGORIAN
BEGIN:VEVENT
UID:sabre-vobject-e5365ca7-7846-4933-ac35-2b000d45ad7e
DTSTAMP:20260421T143311Z
SUMMARY:Taufe von Olivia Hinse-Stern
DESCRIPTION:https://pg-egling.de/taufe-von-olivia-hinse-stern_id44351
DTSTART;TZID=Europe/Berlin:20260425T143000
DURATION:PT30M
LOCATION:Filialkirche St. Andreas Heinrichshofen\, Dorfstraße 5\, 86492 He
 inrichshofen
END:VEVENT
END:VCALENDAR
