BEGIN:VCALENDAR
VERSION:2.0
PRODID:-//Sabre//Sabre VObject 4.5.8//EN
CALSCALE:GREGORIAN
BEGIN:VEVENT
UID:sabre-vobject-3179831b-e229-4db2-8850-f01cc860e637
DTSTAMP:20260419T102555Z
SUMMARY:Rosenkranz
DESCRIPTION:https://pg-egling.de/rosenkranz_id44068
DTSTART;TZID=Europe/Berlin:20260425T173000
DURATION:PT30M
LOCATION:Filialkirche St. Johann Baptist Scheuring\, Burgselstraße 3\, 869
 37 Scheuring
END:VEVENT
END:VCALENDAR
